BEGIN:VCALENDAR
VERSION:2.0
PRODID:-//wp-events-plugin.com//7.2.3.1//EN
TZID:Europe/Zurich
X-WR-TIMEZONE:Europe/Zurich
BEGIN:VEVENT
UID:287@sac-saas.ch
DTSTART;TZID=Europe/Zurich;VALUE=DATE:20240616
DTEND;TZID=Europe/Zurich;VALUE=DATE:20240617
DTSTAMP:20240129T151335Z
URL:https://sac-saas.ch/events/jo-msl-jaegihorn-anmeldung-ab-23-11-23/
SUMMARY:JO MSL Jägihorn / Anmeldung bis 12.06.2024
DESCRIPTION:Am Jägihorn werden wir zusammen eine schöne Klettertour mache
 n.\n\n\n\nAnmeldung bis:\n12.06.24\n\n\nSchwierigkeit\nMittel\n\n\nKosten\
 n10.- plus Bahnticket\n\n\nAusrüstung\nTrekkingschuhe\, Klettergurt\, Kle
 tterfinken\, Helm\, falls vorhanden Sicherungsgerät\, Lunch\, Sonnenschut
 z\n\n\nTreffpunkt\n\n\n\nTeilnehmerzahl\n\n\n\n\n&nbsp\;
CATEGORIES:SAC Tour
END:VEVENT
BEGIN:VTIMEZONE
TZID:Europe/Zurich
X-LIC-LOCATION:Europe/Zurich
BEGIN:DAYLIGHT
DTSTART:20240331T030000
TZOFFSETFROM:+0100
TZOFFSETTO:+0200
TZNAME:CEST
END:DAYLIGHT
END:VTIMEZONE
END:VCALENDAR