BEGIN:VCALENDAR
VERSION:2.0
PRODID:-//wp-events-plugin.com//7.2.3.1//EN
TZID:Europe/Zurich
X-WR-TIMEZONE:Europe/Zurich
BEGIN:VEVENT
UID:176@sac-saas.ch
DTSTART;TZID=Europe/Zurich;VALUE=DATE:20230625
DTEND;TZID=Europe/Zurich;VALUE=DATE:20230626
DTSTAMP:20230615T101948Z
URL:https://sac-saas.ch/events/jo-mehrseillaengen/
SUMMARY:JO Mehrseillängentour Zeneggen Verschneidung
DESCRIPTION:Zusammen klettern wir die bekannte und sehr schöne Verschneidu
 ng in Zeneggen. Diese Mehrseillängen-Tour ist sehr abwechslungsreich und 
 macht sicher allen viel Spass.\n\n\n\nSchwierigkeit\nmittel\n\n\nAnmeldesc
 hluss\n 19.04.23\n\n\nAusrüstung\nKlettergurt\, Kletterfinken\, Helm\, L
 unch\, Sicherungsgerät\n\n\nTreffpunkt\nwird noch bekannt gegeben\n\n\nKo
 sten\n10.-\n\n\n\n&nbsp\;
CATEGORIES:SAC Tour
END:VEVENT
BEGIN:VTIMEZONE
TZID:Europe/Zurich
X-LIC-LOCATION:Europe/Zurich
BEGIN:DAYLIGHT
DTSTART:20230326T030000
TZOFFSETFROM:+0100
TZOFFSETTO:+0200
TZNAME:CEST
END:DAYLIGHT
END:VTIMEZONE
END:VCALENDAR