BEGIN:VCALENDAR
VERSION:2.0
PRODID:-//wp-events-plugin.com//7.2.3.1//EN
TZID:Europe/Zurich
X-WR-TIMEZONE:Europe/Zurich
BEGIN:VEVENT
UID:290@sac-saas.ch
DTSTART;TZID=Europe/Zurich;VALUE=DATE:20240421
DTEND;TZID=Europe/Zurich;VALUE=DATE:20240422
DTSTAMP:20240415T035245Z
URL:https://sac-saas.ch/events/jo-klettertag-feechi-2024-anmeldung-ab-23-1
 1-23/
SUMMARY:JO Klettertag Feechi / Anmeldung ab 23.11.23
DESCRIPTION:Am 21.4. starten wir in die Klettersaison im Feechi in Saas-Gru
 nd. Ich freue mich auf viele Teilnehmer.\n\n&nbsp\;\n\n\n\nAnmeldung bis:\
 n17.4.24\n\n\nSchwierigkeit\nmittel\n\n\nKosten\n10.-\n\n\nAusrüstung\nKl
 ettergurt\, Kletterfinken\, Helm\, falls vorhanden Sicherungsgerät\, Lunc
 h\, Sonnenschutz\n\n\nTreffpunkt\nSaas-Grund 10.00\n\n\nTeilnehmerzahl\n\n
 \n\n\n&nbsp\;
CATEGORIES:SAC Tour
END:VEVENT
BEGIN:VTIMEZONE
TZID:Europe/Zurich
X-LIC-LOCATION:Europe/Zurich
BEGIN:DAYLIGHT
DTSTART:20240331T030000
TZOFFSETFROM:+0100
TZOFFSETTO:+0200
TZNAME:CEST
END:DAYLIGHT
END:VTIMEZONE
END:VCALENDAR