BEGIN:VCALENDAR
VERSION:2.0
PRODID:-//wp-events-plugin.com//7.2.3.1//EN
TZID:Europe/Zurich
X-WR-TIMEZONE:Europe/Zurich
BEGIN:VEVENT
UID:174@sac-saas.ch
DTSTART;TZID=Europe/Zurich;VALUE=DATE:20230525
DTEND;TZID=Europe/Zurich;VALUE=DATE:20230529
DTSTAMP:20230515T182456Z
URL:https://sac-saas.ch/events/jo-kletterlager-interlaken/
SUMMARY:JO Kletterlager Interlaken
DESCRIPTION:Das diesjährige Frühlingslager verbringen wir in Interlaken a
 uf dem Camping. Das Gebiet hat sehr viele schöne Klettergärten die schne
 ll von Interlaken erreichbar sind. Und der Camping am See ist auch sehr ei
 nladend!\n\n\n\nSchwierigkeit\nleicht\n\n\nAnmeldeschluss\n22.5.2023\n\n\n
 Ausrüstung\nKlettergurt\, Kletterfinken\, Helm\, Lunch\, falls vorhanden 
 Sicherungsgerät und Espresschlingen\, Campingmaterial\, pers. Toilettenar
 tikel\n\n\nTreffpunkt\n\n\n\nKosten\nwird noch bekanntgegeben\n\n\n\n&nbsp
 \;
CATEGORIES:SAC Tour
END:VEVENT
BEGIN:VTIMEZONE
TZID:Europe/Zurich
X-LIC-LOCATION:Europe/Zurich
BEGIN:DAYLIGHT
DTSTART:20230326T030000
TZOFFSETFROM:+0100
TZOFFSETTO:+0200
TZNAME:CEST
END:DAYLIGHT
END:VTIMEZONE
END:VCALENDAR