BEGIN:VCALENDAR
VERSION:2.0
PRODID:-//wp-events-plugin.com//7.2.3.1//EN
TZID:Europe/Zurich
X-WR-TIMEZONE:Europe/Zurich
BEGIN:VEVENT
UID:376@sac-saas.ch
DTSTART;TZID=Europe/Zurich;VALUE=DATE:20250316
DTEND;TZID=Europe/Zurich;VALUE=DATE:20250317
DTSTAMP:20241118T161223Z
URL:https://sac-saas.ch/events/jo-kibe-skitour-fluchthorn-anmeldung-ab-17-
 02-2025/
SUMMARY:JO/KiBe Skitour Fluchthorn / Anmeldung ab 17.02.2025
DESCRIPTION:&nbsp\;\n\n\n\nAnmeldung ab:\n\n\n\nSchwierigkeit\nWS+\n\n\nEck
 daten\n3 h Aufstieg\n\n\nAusrüstung\nLawinenausrüstung (kann geliehen we
 rden)\, Skitourenskis / Alpinskis mit Adapter und Felle\, Klettergurt\, St
 eigeisen (kann geliehen werden)\n\n\nTreffpunkt\nwird noch bekannt gegeben
 \n\n\nTeilnehmerzahl\n\n\n\n\n&nbsp\;
CATEGORIES:SAC Tour
END:VEVENT
BEGIN:VTIMEZONE
TZID:Europe/Zurich
X-LIC-LOCATION:Europe/Zurich
BEGIN:STANDARD
DTSTART:20241027T020000
TZOFFSETFROM:+0200
TZOFFSETTO:+0100
TZNAME:CET
END:STANDARD
END:VTIMEZONE
END:VCALENDAR