BEGIN:VCALENDAR
VERSION:2.0
PRODID:-//wp-events-plugin.com//7.2.3.1//EN
TZID:Europe/Zurich
X-WR-TIMEZONE:Europe/Zurich
BEGIN:VEVENT
UID:371@sac-saas.ch
DTSTART;TZID=Europe/Zurich;VALUE=DATE:20241220
DTEND;TZID=Europe/Zurich;VALUE=DATE:20241221
DTSTAMP:20241118T161549Z
URL:https://sac-saas.ch/events/jo-kibe-schneeschuhlaufen-im-saas-am-abend-
 anmeldung-ab-25-11-2024/
SUMMARY:JO/KiBe Schneeschuhlaufen im Saas am Abend / Anmeldung ab 25.11.202
 4
DESCRIPTION:&nbsp\;\n\n\n\n\n\n\n\nSchwierigkeit\nleicht\n\n\nEckdaten\nkle
 ine Schneeschuhwanderung am Abend mit Cervelas-Braten und Punch\n\n\nAusr
 üstung\nLawinenausrüstung (kann geliehen werden)\, Schneeschuhe\, Stirnl
 ampe\, Cervelas\n\n\nTreffpunkt\nwird noch bekannt gegeben\n\n\nTeilnehmer
 zahl\n\n\n\n\n&nbsp\;
CATEGORIES:SAC Tour
END:VEVENT
BEGIN:VTIMEZONE
TZID:Europe/Zurich
X-LIC-LOCATION:Europe/Zurich
BEGIN:STANDARD
DTSTART:20241027T020000
TZOFFSETFROM:+0200
TZOFFSETTO:+0100
TZNAME:CET
END:STANDARD
END:VTIMEZONE
END:VCALENDAR