BEGIN:VCALENDAR
VERSION:2.0
PRODID:-//wp-events-plugin.com//7.2.3.1//EN
TZID:Europe/Zurich
X-WR-TIMEZONE:Europe/Zurich
BEGIN:VEVENT
UID:289@sac-saas.ch
DTSTART;TZID=Europe/Zurich;VALUE=DATE:20240526
DTEND;TZID=Europe/Zurich;VALUE=DATE:20240527
DTSTAMP:20231123T204716Z
URL:https://sac-saas.ch/events/jo-kibe-saas-fee-schlucht-2024-anmeldung-ab
 -23-11-23/
SUMMARY:JO/KiBe Saas-Fee Schlucht 2024 / Anmeldung ab 23.11.23
DESCRIPTION:Zusammen gehen wir durch die bekannte Schlucht von Saas-Fee nac
 h Saas-Grund. Ein relativ einfacher Klettersteig mit garantiert viel Abent
 euer und Spass.\n\n\n\nAnmeldung bis:\n22.5.23\n\n\nSchwierigkeit\nmittel\
 n\n\nKosten\n10.-\n\n\nAusrüstung\nKlettergurt\, Klettersteigset\, Helm\,
  dünne Hanschuhe\,Lunch\n\n\nTreffpunkt\n\n\n\nTeilnehmerzahl\n\n\n\n\n&n
 bsp\;
CATEGORIES:SAC Tour
END:VEVENT
BEGIN:VTIMEZONE
TZID:Europe/Zurich
X-LIC-LOCATION:Europe/Zurich
BEGIN:DAYLIGHT
DTSTART:20240331T030000
TZOFFSETFROM:+0100
TZOFFSETTO:+0200
TZNAME:CEST
END:DAYLIGHT
END:VTIMEZONE
END:VCALENDAR