BEGIN:VCALENDAR
VERSION:2.0
PRODID:-//wp-events-plugin.com//7.2.3.1//EN
TZID:Europe/Zurich
X-WR-TIMEZONE:Europe/Zurich
BEGIN:VEVENT
UID:340@sac-saas.ch
DTSTART;TZID=Europe/Zurich;VALUE=DATE:20240825
DTEND;TZID=Europe/Zurich;VALUE=DATE:20240826
DTSTAMP:20240817T101558Z
URL:https://sac-saas.ch/events/jo-kibe-riffelhorn-anmeldung-ab-01-05-2024/
SUMMARY:JO/KiBe Riffelhorn / Anmeldung ab 01.05.2024
DESCRIPTION:Wir gehen wieder einmal nach Zermatt und besteigen dort das sch
 öne Riffelhorn. Wir überschreiten den Gipfel vom Rotenboden aus\, dabei 
 gibts ein paar schöne Kletterstellen auf dem Grat. Ich freue mich auf euc
 h.\n\nFabian\n\n\n\nAnmeldung möglich ab:\n01.05.2024 / bis 21.08.2024\n\
 n\nSchwierigkeit\nmittel\n\n\nKosten\n10.- plus Transport nach Zermatt\, R
 otenboden (Gornergratbahn)\n\n\nAusrüstung\nWanderschuhe\, Klettergurt\, 
 Helm\, warme Kleidung\, Sonnenschutz\, Lunch\n\n\nTreffpunkt\nwird noch be
 kanntgegeben\n\n\nTeilnehmerzahl\n\n\n\n\n&nbsp\;
CATEGORIES:SAC Tour
END:VEVENT
BEGIN:VTIMEZONE
TZID:Europe/Zurich
X-LIC-LOCATION:Europe/Zurich
BEGIN:DAYLIGHT
DTSTART:20240331T030000
TZOFFSETFROM:+0100
TZOFFSETTO:+0200
TZNAME:CEST
END:DAYLIGHT
END:VTIMEZONE
END:VCALENDAR