BEGIN:VCALENDAR
VERSION:2.0
PRODID:-//wp-events-plugin.com//7.2.3.1//EN
TZID:Europe/Zurich
X-WR-TIMEZONE:Europe/Zurich
BEGIN:VEVENT
UID:382@sac-saas.ch
DTSTART;TZID=Europe/Zurich;VALUE=DATE:20250615
DTEND;TZID=Europe/Zurich;VALUE=DATE:20250616
DTSTAMP:20241118T161034Z
URL:https://sac-saas.ch/events/jo-kibe-mehrseillaengenklettern-jaegihorn-a
 nmeldung-ab-19-05-2025/
SUMMARY:JO/KiBe Mehrseillängenklettern Jägihorn / Anmeldung ab 19.05.2025
DESCRIPTION:&nbsp\;\n\n\n\nAnmeldung ab:\n\n\n\nSchwierigkeit\nab 4c\n\n\nE
 ckdaten\n\n\n\nAusrüstung\nKlettergurt\, Kletterhelm\, Kletterfinken\, Ka
 rabiner\, Sicherungsgerät\, Selbstsicherungsschlinge\, Expressen wenn vor
 handen\,\n\n\nTreffpunkt\nwird noch bekannt gegeben\n\n\nTeilnehmerzahl\n\
 n\n\n\n&nbsp\;
CATEGORIES:SAC Tour
END:VEVENT
BEGIN:VTIMEZONE
TZID:Europe/Zurich
X-LIC-LOCATION:Europe/Zurich
BEGIN:DAYLIGHT
DTSTART:20250330T030000
TZOFFSETFROM:+0100
TZOFFSETTO:+0200
TZNAME:CEST
END:DAYLIGHT
END:VTIMEZONE
END:VCALENDAR