BEGIN:VCALENDAR
VERSION:2.0
PRODID:-//wp-events-plugin.com//7.2.3.1//EN
TZID:Europe/Zurich
X-WR-TIMEZONE:Europe/Zurich
BEGIN:VEVENT
UID:558@sac-saas.ch
DTSTART;TZID=Europe/Zurich;VALUE=DATE:20261003
DTEND;TZID=Europe/Zurich;VALUE=DATE:20261005
DTSTAMP:20251121T171553Z
URL:https://sac-saas.ch/events/jo-kibe-kletterweekend-wiwanni-anmeldung-ab
 -02-08-2026/
SUMMARY:JO/KiBe Kletterweekend Wiwanni / Anmeldung ab 02.08.2026
DESCRIPTION:&nbsp\;\n\n\n\nAnmeldung ab:\n02.08.2026\n\n\nSchwierigkeit\nab
  4c\n\n\nEckdaten\nKlettern und Bergsteigen rund um die Wiwannihütte.\n\n
 \nAusrüstung\nWander- oder Bergschuhe\, Klettergurt\, Kletterfinken\, Kle
 tterhelm\, Sicherungsgerät\, Lunch\, Sicherungsschlinge\, Express wenn vo
 rhanden\, Hüttenschlafsack\n\n\nTreffpunkt\nwird noch bekannt gegeben\n\n
 \nTeilnehmerzahl\nbis 12 Tn\n\n\n\n&nbsp\;
CATEGORIES:SAC JO,SAC KIBE,SAC Tour
END:VEVENT
BEGIN:VTIMEZONE
TZID:Europe/Zurich
X-LIC-LOCATION:Europe/Zurich
BEGIN:DAYLIGHT
DTSTART:20260329T030000
TZOFFSETFROM:+0100
TZOFFSETTO:+0200
TZNAME:CEST
END:DAYLIGHT
END:VTIMEZONE
END:VCALENDAR