BEGIN:VCALENDAR
VERSION:2.0
PRODID:-//wp-events-plugin.com//7.2.3.1//EN
TZID:Europe/Zurich
X-WR-TIMEZONE:Europe/Zurich
BEGIN:VEVENT
UID:385@sac-saas.ch
DTSTART;TZID=Europe/Zurich;VALUE=DATE:20250927
DTEND;TZID=Europe/Zurich;VALUE=DATE:20250928
DTSTAMP:20241118T160844Z
URL:https://sac-saas.ch/events/jo-kibe-klettersteig-mittaghorn-anmeldung-a
 b-01-09-2025/
SUMMARY:JO/KiBe Klettersteig Mittaghorn / Anmeldung ab 01.09.2025
DESCRIPTION:&nbsp\;\n\n\n\nAnmeldung ab:\n\n\n\nSchwierigkeit\nK3\n\n\nEckd
 aten\n\n\n\nAusrüstung\nKlettergurt\, Kletterhelm\,  Klettersteigset\n\n
 \nTreffpunkt\nwird noch bekannt gegeben\n\n\nTeilnehmerzahl\n\n\n\n\n&nbsp
 \;
CATEGORIES:SAC Tour
END:VEVENT
BEGIN:VTIMEZONE
TZID:Europe/Zurich
X-LIC-LOCATION:Europe/Zurich
BEGIN:DAYLIGHT
DTSTART:20250330T030000
TZOFFSETFROM:+0100
TZOFFSETTO:+0200
TZNAME:CEST
END:DAYLIGHT
END:VTIMEZONE
END:VCALENDAR