BEGIN:VCALENDAR
VERSION:2.0
PRODID:-//wp-events-plugin.com//7.2.3.1//EN
TZID:Europe/Zurich
X-WR-TIMEZONE:Europe/Zurich
BEGIN:VEVENT
UID:339@sac-saas.ch
DTSTART;TZID=Europe/Zurich;VALUE=DATE:20240915
DTEND;TZID=Europe/Zurich;VALUE=DATE:20240916
DTSTAMP:20240908T181620Z
URL:https://sac-saas.ch/events/jo-kibe-klettersteig-mittaghorn-anmeldung-a
 b-01-05-2024/
SUMMARY:JO/KiBe Klettersteig Mittaghorn / Anmeldung ab 01.05.2024
DESCRIPTION:Dieses mal gehen wir auf den Hausberg von vielen unter euch\, d
 as Mittaghorn. Der Klettersteig ist technisch einfach\, bis auf ein wenig 
 Ausdauer braucht ihr keine Vorkenntnisse. Ich freue mich.\n\nFabian\n\n\n\
 nAnmeldung möglich ab:\n01.05.2024 / bis 11.09.2024\n\n\nSchwierigkeit\nm
 ittel\n\n\nKosten\n10.00 plus Bahnticket\n\n\nAusrüstung\nWanderschuhe\, 
 Klettergurt\, Helm\, Klettersteigset\, Lunch\, Sonnenschutz\n\n\nTreffpunk
 t\nwird noch bekanntgegeben\n\n\nTeilnehmerzahl\n\n\n\n\n&nbsp\;
CATEGORIES:SAC Tour
END:VEVENT
BEGIN:VTIMEZONE
TZID:Europe/Zurich
X-LIC-LOCATION:Europe/Zurich
BEGIN:DAYLIGHT
DTSTART:20240331T030000
TZOFFSETFROM:+0100
TZOFFSETTO:+0200
TZNAME:CEST
END:DAYLIGHT
END:VTIMEZONE
END:VCALENDAR