BEGIN:VCALENDAR
VERSION:2.0
PRODID:-//wp-events-plugin.com//7.2.3.1//EN
TZID:Europe/Zurich
X-WR-TIMEZONE:Europe/Zurich
BEGIN:VEVENT
UID:557@sac-saas.ch
DTSTART;TZID=Europe/Zurich;VALUE=DATE:20260919
DTEND;TZID=Europe/Zurich;VALUE=DATE:20260920
DTSTAMP:20251121T171521Z
URL:https://sac-saas.ch/events/jo-kibe-klettersteig-gorge-alpine-anmeldung
 -ab-16-08-2026/
SUMMARY:JO/KiBe Klettersteig Gorge Alpine / Anmeldung ab 16.08.2026
DESCRIPTION:&nbsp\;\n\n\n\nAnmeldung ab:\n16.08.2026\n\n\nSchwierigkeit\n\n
 \n\nEckdaten\nBegehung des dynamischen Klettersteigs Gorge Alpine\n\n\nAus
 rüstung\nWander- oder Bergschuhe\, Klettergurt\, Kletterhelm\, Kletterste
 igset\, Lunch\,\n\n\nTreffpunkt\nwird noch bekannt gegeben\n\n\nTeilnehmer
 zahl\nbis 12 Tn\n\n\n\n&nbsp\;
CATEGORIES:SAC JO,SAC KIBE,SAC Tour
END:VEVENT
BEGIN:VTIMEZONE
TZID:Europe/Zurich
X-LIC-LOCATION:Europe/Zurich
BEGIN:DAYLIGHT
DTSTART:20260329T030000
TZOFFSETFROM:+0100
TZOFFSETTO:+0200
TZNAME:CEST
END:DAYLIGHT
END:VTIMEZONE
END:VCALENDAR