BEGIN:VCALENDAR
VERSION:2.0
PRODID:-//wp-events-plugin.com//7.2.3.1//EN
TZID:Europe/Zurich
X-WR-TIMEZONE:Europe/Zurich
BEGIN:VEVENT
UID:553@sac-saas.ch
DTSTART;TZID=Europe/Zurich;VALUE=DATE:20260523
DTEND;TZID=Europe/Zurich;VALUE=DATE:20260525
DTSTAMP:20251121T171212Z
URL:https://sac-saas.ch/events/jo-kibe-kletternweekend-unterwallis-anmeldu
 ng-ab-21-03-2026/
SUMMARY:JO/KiBe Kletternweekend Unterwallis / Anmeldung ab 21.03.2026
DESCRIPTION:&nbsp\;\n\n\n\nAnmeldung ab:\n21.03.2026\n\n\nSchwierigkeit\nab
  5a\n\n\nEckdaten\nKlettern im Klettergarten mit Schwerpunkt auf Kletterte
 chnik\n\n\nAusrüstung\nKlettergurt\, Kletterfinken\, Kletterhelm\, Sicher
 ungsgerät\, Lunch\, Express wenn vorhanden\, Schlafsack\, Luftmätteli\n\
 n\nTreffpunkt\nwird noch bekannt gegeben\n\n\nTeilnehmerzahl\nbis 12 Tn\n\
 n\n\n&nbsp\;
CATEGORIES:SAC JO,SAC KIBE,SAC Tour
END:VEVENT
BEGIN:VTIMEZONE
TZID:Europe/Zurich
X-LIC-LOCATION:Europe/Zurich
BEGIN:DAYLIGHT
DTSTART:20260329T030000
TZOFFSETFROM:+0100
TZOFFSETTO:+0200
TZNAME:CEST
END:DAYLIGHT
END:VTIMEZONE
END:VCALENDAR