BEGIN:VCALENDAR
VERSION:2.0
PRODID:-//wp-events-plugin.com//7.2.3.1//EN
TZID:Europe/Zurich
X-WR-TIMEZONE:Europe/Zurich
BEGIN:VEVENT
UID:554@sac-saas.ch
DTSTART;TZID=Europe/Zurich;VALUE=DATE:20260607
DTEND;TZID=Europe/Zurich;VALUE=DATE:20260608
DTSTAMP:20251121T171314Z
URL:https://sac-saas.ch/events/jo-kibe-klettern-mehrseillaengen-schlucht-s
 aas-grund-anmeldung-ab-03-05-2026/
SUMMARY:JO/KiBe Klettern Mehrseillängen Schlucht Saas-Grund / Anmeldung ab
  03.05.2026
DESCRIPTION:&nbsp\;\n\n\n\nAnmeldung ab:\n03.05.2026\n\n\nSchwierigkeit\nab
  5a\n\n\nEckdaten\nKletterausbildung in Mehrseillängentechnik.\n\n\nAusr
 üstung\nKlettergurt\, Kletterfinken\, Kletterhelm\, Sicherungsgerät\, Si
 cherungsschlinge mit Karabiner\, Lunch\, Express wenn vorhanden.\n\n\nTref
 fpunkt\nwird noch bekannt gegeben\n\n\nTeilnehmerzahl\nbis 12 Tn\n\n\n\n&n
 bsp\;
CATEGORIES:SAC JO,SAC KIBE,SAC Tour
END:VEVENT
BEGIN:VTIMEZONE
TZID:Europe/Zurich
X-LIC-LOCATION:Europe/Zurich
BEGIN:DAYLIGHT
DTSTART:20260329T030000
TZOFFSETFROM:+0100
TZOFFSETTO:+0200
TZNAME:CEST
END:DAYLIGHT
END:VTIMEZONE
END:VCALENDAR