BEGIN:VCALENDAR
VERSION:2.0
PRODID:-//wp-events-plugin.com//7.2.3.1//EN
TZID:Europe/Zurich
X-WR-TIMEZONE:Europe/Zurich
BEGIN:VEVENT
UID:369@sac-saas.ch
DTSTART;TZID=Europe/Zurich;VALUE=DATE:20241123
DTEND;TZID=Europe/Zurich;VALUE=DATE:20241124
DTSTAMP:20241118T155125Z
URL:https://sac-saas.ch/events/jo-kibe-klettern-klettergarten-naters-anmel
 dung-ab-21-10-2024/
SUMMARY:JO/KiBe Klettern Klettergarten Naters\, Anmeldung ab 21.10.2024
DESCRIPTION:&nbsp\;\n\n\n\n\n\n\n\nSchwierigkeit\nab 5a\n\n\nEckdaten\nKlet
 tern im Klettergarten mit Schwerpunkt auf Sicherungstechnik\n\n\nAusrüstu
 ng\nKlettergurt\, Kletterfinken\, Kletterhelm\, Sicherungsgerät\, Lunch\,
  Express wenn vorhanden.\n\n\nTreffpunkt\nwird noch bekannt gegeben\n\n\nT
 eilnehmerzahl\n bis 12 Tn\n\n\n\n&nbsp\;
CATEGORIES:SAC Tour
END:VEVENT
BEGIN:VTIMEZONE
TZID:Europe/Zurich
X-LIC-LOCATION:Europe/Zurich
BEGIN:STANDARD
DTSTART:20241027T020000
TZOFFSETFROM:+0200
TZOFFSETTO:+0100
TZNAME:CET
END:STANDARD
END:VTIMEZONE
END:VCALENDAR