BEGIN:VCALENDAR
VERSION:2.0
PRODID:-//wp-events-plugin.com//7.2.3.1//EN
TZID:Europe/Zurich
X-WR-TIMEZONE:Europe/Zurich
BEGIN:VEVENT
UID:386@sac-saas.ch
DTSTART;TZID=Europe/Zurich;VALUE=DATE:20251004
DTEND;TZID=Europe/Zurich;VALUE=DATE:20251005
DTSTAMP:20250930T185504Z
URL:https://sac-saas.ch/events/jo-kibe-klettern-klettergarten-lalden-anmel
 dung-ab-08-09-2025/
SUMMARY:JO/KiBe Klettern Klettergarten Lalden / Anmeldung ab 08.09.2025
DESCRIPTION:&nbsp\;\n\n\n\nAnmeldung ab:\n\n\n\nSchwierigkeit\nab 5a\n\n\nE
 ckdaten\n\n\n\nAusrüstung\nKlettergurt\, Kletterhelm\, Kletterfinken\, Ka
 rabiner\, Sicherungsgerät\, Expressen wenn vorhanden\n\n\nTreffpunkt\nwir
 d noch bekannt gegeben\n\n\nTeilnehmerzahl\n\n\n\n\n&nbsp\;
CATEGORIES:SAC Tour
END:VEVENT
BEGIN:VTIMEZONE
TZID:Europe/Zurich
X-LIC-LOCATION:Europe/Zurich
BEGIN:DAYLIGHT
DTSTART:20250330T030000
TZOFFSETFROM:+0100
TZOFFSETTO:+0200
TZNAME:CEST
END:DAYLIGHT
END:VTIMEZONE
END:VCALENDAR