BEGIN:VCALENDAR
VERSION:2.0
PRODID:-//wp-events-plugin.com//7.2.3.1//EN
TZID:Europe/Zurich
X-WR-TIMEZONE:Europe/Zurich
BEGIN:VEVENT
UID:384@sac-saas.ch
DTSTART;TZID=Europe/Zurich;VALUE=DATE:20250824
DTEND;TZID=Europe/Zurich;VALUE=DATE:20250825
DTSTAMP:20241118T160903Z
URL:https://sac-saas.ch/events/jo-kibe-hochtour-kl-furkahorn-westgrat-anme
 ldung-ab-28-07-2025/
SUMMARY:JO/KiBe Hochtour kl Furkahorn Westgrat / Anmeldung ab 28.07.2025
DESCRIPTION:&nbsp\;\n\n\n\nAnmeldung ab:\n\n\n\nSchwierigkeit\nWS+\, 3a\n\n
 \nEckdaten\n\n\n\nAusrüstung\nKlettergurt\, Kletterhelm\,  Karabiner\, S
 icherungsgerät\n\n\nTreffpunkt\nwird noch bekannt gegeben\n\n\nTeilnehmer
 zahl\n\n\n\n\n&nbsp\;
CATEGORIES:SAC Tour
END:VEVENT
BEGIN:VTIMEZONE
TZID:Europe/Zurich
X-LIC-LOCATION:Europe/Zurich
BEGIN:DAYLIGHT
DTSTART:20250330T030000
TZOFFSETFROM:+0100
TZOFFSETTO:+0200
TZNAME:CEST
END:DAYLIGHT
END:VTIMEZONE
END:VCALENDAR