BEGIN:VCALENDAR
VERSION:2.0
PRODID:-//wp-events-plugin.com//7.2.3.1//EN
TZID:Europe/Zurich
X-WR-TIMEZONE:Europe/Zurich
BEGIN:VEVENT
UID:383@sac-saas.ch
DTSTART;TZID=Europe/Zurich;VALUE=DATE:20250720
DTEND;TZID=Europe/Zurich;VALUE=DATE:20250721
DTSTAMP:20250703T135427Z
URL:https://sac-saas.ch/events/jo-kibe-hochtour-allalin-hohlaubgrat-anmeld
 ung-ab-23-06-2025/
SUMMARY:JO/KiBe Hochtour Allalin Hohlaubgrat / Anmeldung ab 23.06.2025
DESCRIPTION:&nbsp\;\n\n\n\nAnmeldung ab:\n\n\n\nSchwierigkeit\nZS / 2a\n\n\
 nEckdaten\n\n\n\nAusrüstung\nKlettergurt\, Kletterhelm\,  Karabiner\, St
 eigeisen*\, Pickel* (*kann geliehen werden)\n\n\nTreffpunkt\nwird noch bek
 annt gegeben\n\n\nTeilnehmerzahl\n\n\n\n\n&nbsp\;
CATEGORIES:SAC Tour
END:VEVENT
BEGIN:VTIMEZONE
TZID:Europe/Zurich
X-LIC-LOCATION:Europe/Zurich
BEGIN:DAYLIGHT
DTSTART:20250330T030000
TZOFFSETFROM:+0100
TZOFFSETTO:+0200
TZNAME:CEST
END:DAYLIGHT
END:VTIMEZONE
END:VCALENDAR