BEGIN:VCALENDAR
VERSION:2.0
PRODID:-//wp-events-plugin.com//7.2.3.1//EN
TZID:Europe/Zurich
X-WR-TIMEZONE:Europe/Zurich
BEGIN:VEVENT
UID:375@sac-saas.ch
DTSTART;TZID=Europe/Zurich;VALUE=DATE:20250209
DTEND;TZID=Europe/Zurich;VALUE=DATE:20250210
DTSTAMP:20241118T160226Z
URL:https://sac-saas.ch/events/jo-kibe-freetouring-elwertaetsch-loetschent
 al-anmeldung-ab-13-01-2025/
SUMMARY:JO/KiBe Freetouring Elwertätsch Lötschental / Anmeldung ab 13.01.
 2025
DESCRIPTION:&nbsp\;\n\n\n\n\n\n\n\nSchwierigkeit\nWS-\n\n\nEckdaten\nAufsti
 eg ca. 2h\n\n\nAusrüstung\nLawinenausrüstung (kann ausgeliehen werden)\,
  Skitourenskis oder Alpinskis mit Adapter und Felle\n\n\nTreffpunkt\nwird 
 noch bekannt gegeben\n\n\nTeilnehmerzahl\n\n\n\n\n&nbsp\;
CATEGORIES:SAC Tour
END:VEVENT
BEGIN:VTIMEZONE
TZID:Europe/Zurich
X-LIC-LOCATION:Europe/Zurich
BEGIN:STANDARD
DTSTART:20241027T020000
TZOFFSETFROM:+0200
TZOFFSETTO:+0100
TZNAME:CET
END:STANDARD
END:VTIMEZONE
END:VCALENDAR