BEGIN:VCALENDAR
VERSION:2.0
PRODID:-//wp-events-plugin.com//7.2.3.1//EN
TZID:Europe/Zurich
X-WR-TIMEZONE:Europe/Zurich
BEGIN:VEVENT
UID:372@sac-saas.ch
DTSTART;TZID=Europe/Zurich;VALUE=DATE:20250118
DTEND;TZID=Europe/Zurich;VALUE=DATE:20250119
DTSTAMP:20241118T161458Z
URL:https://sac-saas.ch/events/jo-kibe-eisklettern-im-saas-anmeldung-ab-23
 -12-2024/
SUMMARY:JO/KiBe Eisklettern im Saas / Anmeldung ab 23.12.2024
DESCRIPTION:&nbsp\;\n\n\n\n\n\n\n\nSchwierigkeit\nWI 3\n\n\nEckdaten\nEiskl
 ettern im Feechi oder wo das Eis gut ist.\n\n\nAusrüstung\nKletterhelm\, 
 Klettergurt\, Steigeisen (kann geliehen werden)\, wenn vorhanden Steileisg
 eräte\n\n\nTreffpunkt\nwird noch bekannt gegeben\n\n\nTeilnehmerzahl\n\n\
 n\n\n&nbsp\;
CATEGORIES:SAC Tour
END:VEVENT
BEGIN:VTIMEZONE
TZID:Europe/Zurich
X-LIC-LOCATION:Europe/Zurich
BEGIN:STANDARD
DTSTART:20241027T020000
TZOFFSETFROM:+0200
TZOFFSETTO:+0100
TZNAME:CET
END:STANDARD
END:VTIMEZONE
END:VCALENDAR