BEGIN:VCALENDAR
VERSION:2.0
PRODID:-//wp-events-plugin.com//7.2.3.1//EN
TZID:Europe/Zurich
X-WR-TIMEZONE:Europe/Zurich
BEGIN:VEVENT
UID:556@sac-saas.ch
DTSTART;TZID=Europe/Zurich;VALUE=DATE:20260823
DTEND;TZID=Europe/Zurich;VALUE=DATE:20260824
DTSTAMP:20251121T171439Z
URL:https://sac-saas.ch/events/jo-kibe-bergtour-huelsenhorn-anmeldung-ab-1
 9-07-2026/
SUMMARY:JO/KiBe Bergtour Hülsenhorn / Anmeldung ab 19.07.2026
DESCRIPTION:&nbsp\;\n\n\n\nAnmeldung ab:\n19.07.2026\n\n\nSchwierigkeit\nWS
 +\n\n\nEckdaten\nBergsteigen auf der Belalp mit Schwerpunkt Handhabung des
  kurzen Seils\n\n\nAusrüstung\nWander- oder Bergschuhe\, Klettergurt\, Kl
 etterhelm\, Sicherungsgerät\, Lunch\,\n\n\nTreffpunkt\nwird noch bekannt 
 gegeben\n\n\nTeilnehmerzahl\nbis 12 Tn\n\n\n\n&nbsp\;
CATEGORIES:SAC JO,SAC KIBE,SAC Tour
END:VEVENT
BEGIN:VTIMEZONE
TZID:Europe/Zurich
X-LIC-LOCATION:Europe/Zurich
BEGIN:DAYLIGHT
DTSTART:20260329T030000
TZOFFSETFROM:+0100
TZOFFSETTO:+0200
TZNAME:CEST
END:DAYLIGHT
END:VTIMEZONE
END:VCALENDAR