BEGIN:VCALENDAR
VERSION:2.0
PRODID:-//wp-events-plugin.com//7.2.3.1//EN
TZID:Europe/Zurich
X-WR-TIMEZONE:Europe/Zurich
BEGIN:VEVENT
UID:555@sac-saas.ch
DTSTART;TZID=Europe/Zurich;VALUE=DATE:20260718
DTEND;TZID=Europe/Zurich;VALUE=DATE:20260720
DTSTAMP:20251121T171406Z
URL:https://sac-saas.ch/events/jo-kibe-bergsteigerweekend-furka-anmeldung-
 ab-17-05-2026/
SUMMARY:JO/KiBe Bergsteigerweekend Furka / Anmeldung ab 17.05.2026
DESCRIPTION:&nbsp\;\n\n\n\nAnmeldung ab:\n21.03.2026\n\n\nSchwierigkeit\nWS
 \n\n\nEckdaten\nBergsteigen rund um die Sidelenhütte.\n\n\nAusrüstung\nW
 ander- oder Bergschuhe\, Klettergurt\, Kletterfinken\, Kletterhelm\, Siche
 rungsgerät\, Lunch\, Sicherungsschlinge\, Express wenn vorhanden\, Hütte
 nschlafsack\n\n\nTreffpunkt\nwird noch bekannt gegeben\n\n\nTeilnehmerzahl
 \nbis 12 Tn\n\n\n\n&nbsp\;
CATEGORIES:SAC JO,SAC KIBE,SAC Tour
END:VEVENT
BEGIN:VTIMEZONE
TZID:Europe/Zurich
X-LIC-LOCATION:Europe/Zurich
BEGIN:DAYLIGHT
DTSTART:20260329T030000
TZOFFSETFROM:+0100
TZOFFSETTO:+0200
TZNAME:CEST
END:DAYLIGHT
END:VTIMEZONE
END:VCALENDAR