BEGIN:VCALENDAR
VERSION:2.0
PRODID:-//wp-events-plugin.com//7.2.3.1//EN
TZID:Europe/Zurich
X-WR-TIMEZONE:Europe/Zurich
BEGIN:VEVENT
UID:178@sac-saas.ch
DTSTART;TZID=Europe/Zurich;VALUE=DATE:20230723
DTEND;TZID=Europe/Zurich;VALUE=DATE:20230724
DTSTAMP:20230717T170727Z
URL:https://sac-saas.ch/events/jo-hochtour-alphubel/
SUMMARY:JO Hochtour Alphubel
DESCRIPTION:Zusammen machen wir mit dem Alphubel einen weiteren 4000er übe
 r dem Saastal.\n\n\n\nSchwierigkeit\nanspruchsvoll\n\n\nAnmeldeschluss\n 
 19.07.23\n\n\nAusrüstung\nHelm\, Klettergurt\, Steigeisen\, Stöcke\, Pic
 kel\, Lunch\, warme Kleidung und Sonnenschutz\n\n\nTreffpunkt\n\n\n\nKoste
 n\n10.-\n\n\n\n&nbsp\;
CATEGORIES:SAC Tour
END:VEVENT
BEGIN:VTIMEZONE
TZID:Europe/Zurich
X-LIC-LOCATION:Europe/Zurich
BEGIN:DAYLIGHT
DTSTART:20230326T030000
TZOFFSETFROM:+0100
TZOFFSETTO:+0200
TZNAME:CEST
END:DAYLIGHT
END:VTIMEZONE
END:VCALENDAR