BEGIN:VCALENDAR
VERSION:2.0
PRODID:-//wp-events-plugin.com//7.2.3.1//EN
TZID:Europe/Zurich
X-WR-TIMEZONE:Europe/Zurich
BEGIN:VEVENT
UID:486@sac-saas.ch
DTSTART;TZID=Europe/Zurich;VALUE=DATE:20260620
DTEND;TZID=Europe/Zurich;VALUE=DATE:20260621
DTSTAMP:20260118T210625Z
URL:https://sac-saas.ch/events/jaegihorn-msl-anmeldung-ab-06-jun-2026/
SUMMARY:Jägihorn MSL / Anmeldung ab 20.05.2026
DESCRIPTION:Mehrseillänge Alpendurst\,\n\nZustieg ab Kreuzboden circa 1h 1
 5min\, anschliessend 14Seillängen hoch bis zum Gipfel Jägihorn\n\nAbstie
 g bis Kreuboden und mit Bahn runter\n\n\n\nAnmeldung ab:\n06.Jun.2026\n\n\
 nSchwierigkeit\n4c (4b obl.)\n\n\nEckdaten\n↑↓350\n\n\nAusrüstung\nMe
 hrseillänge Ausrüstung (Details folgen)\n\n\nTreffpunkt\nSaas Grund Tals
 tation (Details folgen)\n\n\nTeilnehmerzahl\n4 (1TL\, 1SF\, 2Teilnehmer)\n
 \n\n\n&nbsp\;
CATEGORIES:Klettern,SAC Tour
END:VEVENT
BEGIN:VTIMEZONE
TZID:Europe/Zurich
X-LIC-LOCATION:Europe/Zurich
BEGIN:DAYLIGHT
DTSTART:20260329T030000
TZOFFSETFROM:+0100
TZOFFSETTO:+0200
TZNAME:CEST
END:DAYLIGHT
END:VTIMEZONE
END:VCALENDAR