BEGIN:VCALENDAR
VERSION:2.0
PRODID:-//wp-events-plugin.com//7.2.3.1//EN
TZID:Europe/Zurich
X-WR-TIMEZONE:Europe/Zurich
BEGIN:VEVENT
UID:302@sac-saas.ch
DTSTART;TZID=Europe/Zurich;VALUE=DATE:20241110
DTEND;TZID=Europe/Zurich;VALUE=DATE:20241111
DTSTAMP:20241008T212147Z
URL:https://sac-saas.ch/events/jaegerweg-saas-balen-anmeldung-ab-01-09-202
 4/
SUMMARY:Verschiebung Jägerweg Saas Balen So. 10.11.24 / Anmeldung ab 01.09
 .2024
DESCRIPTION:Text\n\n\n\nAnmeldung möglich ab:\n01.09.2024\n\n\nSchwierigke
 it\nT4\n\n\nEckdaten\n\n\n\nAusrüstung\n\n\n\nTreffpunkt\n\n\n\nTeilnehme
 rzahl\n10\n\n\n\n&nbsp\;
CATEGORIES:SAC Tour
END:VEVENT
BEGIN:VTIMEZONE
TZID:Europe/Zurich
X-LIC-LOCATION:Europe/Zurich
BEGIN:STANDARD
DTSTART:20241027T020000
TZOFFSETFROM:+0200
TZOFFSETTO:+0100
TZNAME:CET
END:STANDARD
END:VTIMEZONE
END:VCALENDAR