BEGIN:VCALENDAR
VERSION:2.0
PRODID:-//wp-events-plugin.com//7.2.3.1//EN
TZID:Europe/Zurich
X-WR-TIMEZONE:Europe/Zurich
BEGIN:VEVENT
UID:131@sac-saas.ch
DTSTART;TZID=Europe/Zurich;VALUE=DATE:20250124
DTEND;TZID=Europe/Zurich;VALUE=DATE:20250125
DTSTAMP:20250122T062828Z
URL:https://sac-saas.ch/events/ice-climbing-worldcup-freitag-2025/
SUMMARY:UIAA Ice Climbing World Cup 2025\, Freitag 24.01.2025 Helfer komple
 tt
DESCRIPTION:Beim diesjährigen UIAA Ice Climbing Word Cup in Saas-Fee helfe
 n wir mit Freiwilligen zur Unterstützung der Aufsicht des Ruheraums\, Tra
 nsfer Isolation und falls wir diese Jobs alle besetzt haben dann noch bei 
 der Aussenkasse/Hauptkasse oder Türsteher. Wie in den letzten Jahren unte
 rstützen wir den Verein Ice Climbing Saas-Fee tatkräftig\, damit dieser 
 Anlass für die Athleten/Innen und die Region Saastal erfolgreich durchge
 führt wird.\n\nJeder Helfer profitiert von folgenden Vorteilen (Anmeldung
  und Abholung der Sachen beim Haupteingang im Level 9/10)\n\n 	Personalisi
 erter 2-Tagespass für den Event (Freitag\,Samstag)\n 	Essen und Getränke
 bon\n 	Ausfahrtsticket für das Parkhaus (bitte bei der Abholung beim Haup
 teingang abholen bei Bedarf)\n 	Einladung für den Helferevent\n 	SAC Saas
  Bonus (Einlösbar für die vorzeitige Einschreibung bei einer SAC Saas To
 ur vor dem Startanmeldetermin)\n\n&nbsp\;\n\nWettkampfprogramm Freitag\, 2
 4.1.2025\n\n08:00 - 11:00 Lead Qualifikation Frauen\n09:15 - 10:30 Speed Q
 ualifikation Männer\n12:00 - 18:00 Lead Qualifikation Männer\n14:45 - 15
 :30 Speed Qualifikation Frauen\n20:00 - 20:30 Speed Finals Frauen\n20.30 -
  21:00 Speed Finals Männer\n\nAnschliessend Preisverteilung Speed und Ice
  Party\n\n&nbsp\;\n\nAufsicht Ruheraum\, Freitag 24.1.2025\n\nIn der Quali
 fikation am Freitag gibt es keine Isolation. Die Athleten können den Raum
  nach belieben benützen und jederzeit wieder hinaus gehen. Darum brauchen
  wir pro Schicht nur noch eine Person zur Kontrolle des Raums und Auffü
 llen der Getränke/Essen. Die Zuständige Person muss nicht ständig vor O
 rt sein\, sie kann auch nebenbei den Wettkampf schauen.\n\n 	Schicht: 07:3
 0 – 12:00      Pascal Fercher\n 	Schicht: 12:00 – 16:30      San
 dra Schnydrig\n 	Schicht: 16:30 – 21:00      Rosmarie Wyer\n\nTreffpu
 nkt ist im Ruheraum. Bitte findet euch kurz vor der Schicht dort ein und l
 asst euch von den Vorgänger instruieren.  Bei der Anmeldung angeben für
  was und welche Schicht ihr euch interessiert (Handynummer angeben bitte).
  Die Schichten werden dann laufend in der Tabelle nachgetragen. Für weite
 re Infos und Koordination bezüglich Ruheraum wendet euch an Marc Briggele
 r 077 529 29 77.\n\n&nbsp\;\n\nAussenkasse\, Freitag 24.1.2025\n\nSchicht:
  19:00 – 21:30        Marc &amp\; Nadin Briggeler\n\nInfo/Koordinati
 on Kurt Arnold 079 433 15 64
CATEGORIES:SAC Tour
END:VEVENT
BEGIN:VTIMEZONE
TZID:Europe/Zurich
X-LIC-LOCATION:Europe/Zurich
BEGIN:STANDARD
DTSTART:20241027T020000
TZOFFSETFROM:+0200
TZOFFSETTO:+0100
TZNAME:CET
END:STANDARD
END:VTIMEZONE
END:VCALENDAR