BEGIN:VCALENDAR
VERSION:2.0
PRODID:-//wp-events-plugin.com//7.2.3.1//EN
TZID:Europe/Zurich
X-WR-TIMEZONE:Europe/Zurich
BEGIN:VEVENT
UID:158@sac-saas.ch
DTSTART;TZID=Europe/Zurich;VALUE=DATE:20230128
DTEND;TZID=Europe/Zurich;VALUE=DATE:20230129
DTSTAMP:20230125T071555Z
URL:https://sac-saas.ch/events/ice-climbing-worldcup-28-01-2023-anmeldung-
 ab/
SUMMARY:UIAA Ice Climbing World Cup 2023\, Samstag 28.01.2023  Helfer voll!
DESCRIPTION:Beim diesjährigen UIAA Ice Climbing Word Cup in Saas-Fee helfe
 n wir mit Freiwilligen zur Unterstützung der Aufsicht des Ruheraums\, Tra
 nsfer Isolation und falls wir diese Jobs alle besetzt haben dann noch bei 
 der Aussenkasse/Hauptkasse oder Türsteher. Wie in den letzten Jahren unte
 rstützen wir den Verein Ice Climbing Saas-Fee tatkräftig\, damit dieser 
 Anlass für die Athleten/Innen und die Region Saastal erfolgreich durchge
 führt wird.\n\nJeder Helfer profitiert von folgenden Vorteilen (Anmeldung
  und Abholung der Sachen beim Haupteingang im Level 9/10)\n\n 	Personalisi
 erter 2-Tagespass für den Event (Freitag\,Samstag)\n 	Essen und Getränke
 bon\n 	Ausfahrtsticket für das Parkhaus (bitte bei der Abholung beim Haup
 teingang abholen bei Bedarf)\n 	Einladung für den Helferevent\n 	SAC Saas
  Bonus (Einlösbar für die vorzeitige Einschreibung bei einer SAC Saas To
 ur vor dem Startanmeldetermin)\n\nZudem erhalten wir vom Verein Ice Climbi
 ng Saas-Fee 1000.- in die Kasse der JO-SAC Saas.\n\n&nbsp\;\n\nWettkampfpr
 ogramm Samstag\, 28.1.2023\n\n08:45 - 11:45  Lead Halb-Final Frauen\n\n13
 :00 - 16:00  Lead Halb-Final Männer\n\n19.00 - ca.21.30 Lead Final Fraue
 n und Männer\n\nAnschliessend Preisverteilung Lead and Open End Party\n\n
 Ab 21 Uhr Z'Hansruedi im House of Switzerland\n\nAb 22 Uhr Club 1: DJ Dyna
 max &amp\; DJ Kusi\n\nAb 22 Uhr Club 2: The Squids\n\n&nbsp\;\n\nIsolation
 szone\, Samstag 28.1.2023\n\nAm Samstag sind 3 Personen zuständig für di
 e Isolationszone. 1 Person ist immer in der Isolationszone und 2 Personen 
 machen den Transfer der Athleten. Innerhalb der Schicht könnt ihr euch un
 tereinander absprechen/abwechseln. Während der Isolation dürfen die Athl
 eten die Zone nicht verlassen. Die Regeln was die Atheten dürfen oder nic
 ht wird euch die Jury bekannt geben.  Die Person in der Isolationszone is
 t auch zuständig für die Kontrolle und Auffüllen der Getränke/Essen. D
 ie erste Schicht soll schauen\, das gute aufgeräumt ist bevor es los geht
 .\n\nSchicht: 08:00 - 12:00      Alex Mittner / Peter Schulthess /   
 Hildegard Meier  (voll\, für Halbfinal Frauen)\n\nSchicht: 12:00 - 16:30
       Lars Suter       /   Steiner Laura  /  Steiner Annalena 
             ( für Halbfinal Männer)\n\nSchicht: 18:30 - 21:30   
   Franziska Sperb    /   Siebrig Scheeres  /  Sabine Van Ostade  
           (voll\, für Finale)\n\nTreffpunkt ist im Isolationszelt. B
 itte findet euch kurz vor der Schicht dort ein und lasst euch von den Vorg
 änger instruieren.  Bei der Anmeldung angeben für was und welche Schich
 t ihr euch interessiert (Handynr angeben bitte). Die Schichten werden dann
  laufend in der Tabelle nachgetragen. Für weitere Infos und Koordination 
 bezüglich Isolationszone wendet euch an Marc Briggeler 077 529 29 77.\n\n
 &nbsp\;\n\nAussenkasse\, Hauptkasse\, Türsteher\, Samstag 28.1.2023*\n\n*
  Wenn alle Jobs vom Freitag &amp\; Samstag vergeben sind (Aufsicht Ruherau
 m\, Transfer-Iso)\, stehen in 2. Priorität weitere Helferjobs zur Verfüg
 ung. Es braucht noch Personal an der Aussenkasse&amp\;Türsteher. Aber kon
 trolliert zuerst ob beide Tage komplett sind.\n\nAussenkasse Schicht: 18:0
 0 – 21:30      Katy Züllig    /   Theo Züllig   (2 Personen)\
 n\nTürsteher Schicht: 14:00 – 18:00      Steiner Matteo   /   Sa
 muel Anthamatten  (2 Personen)\n\nTreffpunkt ist die Hauptkasse.  Bei de
 r Anmeldung angeben für was und welche Schicht ihr euch interessiert (Han
 dynr angeben bitte). Die Schichten werden dann laufend in der Tabelle nach
 getragen. Für weitere Infos und Koordination bezüglich der Aussenkasse w
 endet euch an Marc Briggeler 077 529 29 77.
CATEGORIES:Clubanlass,SAC Tour
END:VEVENT
BEGIN:VTIMEZONE
TZID:Europe/Zurich
X-LIC-LOCATION:Europe/Zurich
BEGIN:STANDARD
DTSTART:20221030T020000
TZOFFSETFROM:+0200
TZOFFSETTO:+0100
TZNAME:CET
END:STANDARD
END:VTIMEZONE
END:VCALENDAR