BEGIN:VCALENDAR
VERSION:2.0
PRODID:-//wp-events-plugin.com//7.2.3.1//EN
TZID:Europe/Zurich
X-WR-TIMEZONE:Europe/Zurich
BEGIN:VEVENT
UID:354@sac-saas.ch
DTSTART;TZID=Europe/Zurich;VALUE=DATE:20240720
DTEND;TZID=Europe/Zurich;VALUE=DATE:20240722
DTSTAMP:20240719T190936Z
URL:https://sac-saas.ch/events/hochtour-weissmies-suedgrat-anmeldung-ab-04
 -07-2024/
SUMMARY:Hochtour Weissmies Südgrat  / Anmeldung ab 04.07.2024
DESCRIPTION:Da die ursprünglich am 06./07.07.24 geplante Tour aufs Weissmi
 es wegen schlechtem Wetter abgesagt werden musste\, wollen wir am 20./21.0
 7.24 einen zweiten Versuch starten.\n\nAm Samstag laufen wir von Saas-Alma
 gell zur SAC Hütte Almagelleralp\, Am Sonntag machen wir die Überschreit
 ung des Weissmies - hoch über den Süd-Grat und Runter über die Normal-R
 oute nach Hohsaas.\n\n\n\n\n04.07.2024\n\n\nSchwierigkeit\nWS 3a\n\n\nEckd
 aten\nSa. 1200 ↑\, So. 1100 ↑ 800 ↓\n\n\nAusrüstung\nHochtourenausr
 üstung\n\n\nTreffpunkt\nwird noch bekannt gegeben\n\n\nTeilnehmerzahl\n6 
 inkl. 2 Seilführer\n\n\n\n&nbsp\;
CATEGORIES:SAC Tour
END:VEVENT
BEGIN:VTIMEZONE
TZID:Europe/Zurich
X-LIC-LOCATION:Europe/Zurich
BEGIN:DAYLIGHT
DTSTART:20240331T030000
TZOFFSETFROM:+0100
TZOFFSETTO:+0200
TZNAME:CEST
END:DAYLIGHT
END:VTIMEZONE
END:VCALENDAR