BEGIN:VCALENDAR
VERSION:2.0
PRODID:-//wp-events-plugin.com//7.2.3.1//EN
TZID:Europe/Zurich
X-WR-TIMEZONE:Europe/Zurich
BEGIN:VEVENT
UID:415@sac-saas.ch
DTSTART;TZID=Europe/Zurich;VALUE=DATE:20250629
DTEND;TZID=Europe/Zurich;VALUE=DATE:20250630
DTSTAMP:20250609T163547Z
URL:https://sac-saas.ch/events/hochtour-weissmies-anmeldung-ab-08-06-25/
SUMMARY:Hochtour Weissmies / Anmeldung ab 08.06.25
DESCRIPTION:&nbsp\;\n\n\n\n\n08.06.2025\n\n\nSchwierigkeit\nWS\n\n\nEckdate
 n\n900hm ↑↓ ab Bergstation Hohsaas\n\n\nAusrüstung\nHochtourenausrüs
 tung: Klettergurt\, Steigeisen\, Pickel\, ev Stock\, Bandschlinge\, Schrau
 bkarabiner\n\n\nTreffpunkt\n07:20 Uhr Talstation Bergbahnen Kreuzboden-Hoh
 saas\n\n\nTeilnehmerzahl\n9 inkl TL Diana und SF Samuel und Luca\n\n\n\n&n
 bsp\;
CATEGORIES:Bergtour,SAC Tour
END:VEVENT
BEGIN:VTIMEZONE
TZID:Europe/Zurich
X-LIC-LOCATION:Europe/Zurich
BEGIN:DAYLIGHT
DTSTART:20250330T030000
TZOFFSETFROM:+0100
TZOFFSETTO:+0200
TZNAME:CEST
END:DAYLIGHT
END:VTIMEZONE
END:VCALENDAR