BEGIN:VCALENDAR
VERSION:2.0
PRODID:-//wp-events-plugin.com//7.2.3.1//EN
TZID:Europe/Zurich
X-WR-TIMEZONE:Europe/Zurich
BEGIN:VEVENT
UID:222@sac-saas.ch
DTSTART;TZID=Europe/Zurich;VALUE=DATE:20240929
DTEND;TZID=Europe/Zurich;VALUE=DATE:20240930
DTSTAMP:20240830T042220Z
URL:https://sac-saas.ch/events/hochtour-wasenhorn-anmeldung-ab-26-08-2024/
SUMMARY:Hochtour Wasenhorn / Anmeldung ab 26.08.2024
DESCRIPTION:&nbsp\;\n\n\n\nAnmeldung möglich ab:\n26.08.2023\, 07:00\n\n\n
 Schwierigkeit\n2a\n\n\nEckdaten\n ↑ 1250 Hm  ↓ 1250 Hm\n\n\nAusrüst
 ung\n\n\n\nTreffpunkt\n\n\n\nTeilnehmerzahl\n4\, TL Fercher P.\, 3 Teilneh
 mer\n\n\n\n&nbsp\;
CATEGORIES:SAC Tour
END:VEVENT
BEGIN:VTIMEZONE
TZID:Europe/Zurich
X-LIC-LOCATION:Europe/Zurich
BEGIN:DAYLIGHT
DTSTART:20240331T030000
TZOFFSETFROM:+0100
TZOFFSETTO:+0200
TZNAME:CEST
END:DAYLIGHT
END:VTIMEZONE
END:VCALENDAR