BEGIN:VCALENDAR
VERSION:2.0
PRODID:-//wp-events-plugin.com//7.2.3.1//EN
TZID:Europe/Zurich
X-WR-TIMEZONE:Europe/Zurich
BEGIN:VEVENT
UID:213@sac-saas.ch
DTSTART;TZID=Europe/Zurich;VALUE=DATE:20240720
DTEND;TZID=Europe/Zurich;VALUE=DATE:20240722
DTSTAMP:20240609T170601Z
URL:https://sac-saas.ch/events/hochtour-toedi-piz-russein-anmeldung-ab-01-
 06-2024/
SUMMARY:Hochtour / Tödi - Piz Russein /  Tour ausgebucht!
DESCRIPTION:Hochtour zum Tödi - Piz Russein\n\n&nbsp\;\n\nTour ausgebucht!
 \n\n\n\nAnmeldung möglich ab:\n01.06.2024\n\n\nSchwierigkeit\nWS\n\n\nEck
 daten\n↑1300 ↑1500  ↓ 2800\n\n\nAusrüstung\nHochtourenausrüstung\
 , 1/2 Tax\, Hüttenschlafsack\,\n\n\nTreffpunkt\nWird noch bekannt gegeben
 \n\n\nTeilnehmerzahl\n2 TN + 1 TL (Alessandro)\n\n\n\n&nbsp\;\nDie Geschic
 hte der Erstbesteigung begann vor genau 200 Jahren.\nSchauen Sie selbst hi
 erzu die Fernsehreportage von SRF:\nhttps://www.srf.ch/radio-srf-1/200-jah
 re-erstbesteigung-toedi-hochtour-zum-hoechsten-glarner-gipfel-eine-hommage
 -an-den-toedi\n\n&nbsp\;\n\nInformationen zur Tour:\n\nSamstag: - Anreise 
 in Richtung Altdorf\, Klausenpass\, Linthal\n\n- Zustieg zur Fridolinshüt
 te\, Aufstieg 1300hm\n\n- Kurze Ausbildungssequenz\n\n- Übernachtung auf 
 der Fridolinshütte\n\n&nbsp\;\n\nSonntag: - Aufstieg zur Grünhornhütte\
 , Bifertenfirn\, Gipfel Tödi Piz Russein\, Aufstieg 1500hm\n\n- Abstieg B
 ifertenfirn zurück zur Fridolinshütte\, Abstieg 1500hm\n\n- Gemeinsames 
 Mittagessen auf der Fridolinshütte\n\n- Abstieg zurück ins Linthal und H
 eimreise\, Abstieg 1300hm\n\n&nbsp\;\n\n\nDer 3614m hohe Tödi überzeugt 
 mit seiner Mächtigkeit und besitzt insgesamt drei Gipfel.\n&nbsp\;\n\nAlp
 entaxi: Es besteht die Möglichkeit im Linthal ein Alpentaxi zu nehmen\, w
 elches ca. 30.- pro Person kostet. Dies gilt beim Aufstieg und beim Abstie
 g.\n\nSchlechtwetter: Ich werde mich bemühen ein Schlechtwetterprogramm f
 ür euch parat zu haben. Das Programm kann allfällige Abweichungen bezüg
 lich Ort und Unternehmung haben.\n\nTeilnehmerbedingungen: Grundkenntnisse
  von Vorteil / Kurse besucht von Vorteil / Kondition und Fitness sollten a
 usgelegt sein für einen Abstieg von 2800hm innert 10 Stunden / Braucht ni
 cht zwingend grosse Hochtourenerfahrung\n\nNach abgeschlossenem Anmeldepro
 zedere:  Es wird eine Whatsapp-Chatgruppe geben mit weiteren konkreten In
 formationen zur Tour.\n\n&nbsp\;\n\nFreue mich über eure Anmeldung!\n\nUn
 d siii öi derbiii\n\nAlessandro
CATEGORIES:Hochtour,SAC Tour
END:VEVENT
BEGIN:VTIMEZONE
TZID:Europe/Zurich
X-LIC-LOCATION:Europe/Zurich
BEGIN:DAYLIGHT
DTSTART:20240331T030000
TZOFFSETFROM:+0100
TZOFFSETTO:+0200
TZNAME:CEST
END:DAYLIGHT
END:VTIMEZONE
END:VCALENDAR