BEGIN:VCALENDAR
VERSION:2.0
PRODID:-//wp-events-plugin.com//7.2.3.1//EN
TZID:Europe/Zurich
X-WR-TIMEZONE:Europe/Zurich
BEGIN:VEVENT
UID:625@sac-saas.ch
DTSTART;TZID=Europe/Zurich;VALUE=DATE:20260808
DTEND;TZID=Europe/Zurich;VALUE=DATE:20260810
DTSTAMP:20260401T082031Z
URL:https://sac-saas.ch/events/hochtour-taeschhorn-4491-meter/
SUMMARY:Hochtour Täschhorn 4491 Meter / Anmeldung ab 15.05.2026
DESCRIPTION:Wer hat nicht schon von Saas-Fee aus das Täschhorn angeschaut 
 und gedacht\, der ist ja höher als das Matterhorn und dennoch war ich noc
 h nicht oben? Nun das kann sich diesen Sommer ändern!\n\n10. höchster Be
 rg der Alpen\, 8. höchste der Schweiz!!\n\nZusammen mit einen zweiten Tou
 renleiter wollen wir euch ein unvergessliches Erlebnis ermöglichen. Nach 
 der Fahrt zur Ottovan ob Täsch und der Anlauf zur Täschhütte\, besteige
 n wir den Weingartengletscher bis wir das Mischabeljochbiwak (3850 Meter) 
 erreichen und herunter auf Saas-Fee schauen.\n\nAm 2. Tag besteigen wir de
 n SSE Grat innert 4 Stunden. Nach den obligaten Gipfelfoto und einen ausgi
 ebigen Rast\, steigen wir den 2\,5 Kilometer hinab nach Ottavan.\n\n\n\nGu
 ter Kondition und schwindelfreies Gehen ist erforderlich für diesen Hocht
 our.\n\nTäschhorn SAC-Tourenportal\n\n\n\nAnmeldung ab:\n15.05.2026\n\n\n
 Schwierigkeit\nZS\, 3a\n\n\nEckdaten\n1700↑ / 750↑ 2450↓\n\n\nAusrü
 stung\nHochtourenausrüstung\n\n\nTreffpunkt\nNZB\n\n\nTeilnehmerzahl\n6 i
 nklusive 2 Tourenleiter\n\n\n\n&nbsp\;
CATEGORIES:Hochtour,SAC Tour
END:VEVENT
BEGIN:VTIMEZONE
TZID:Europe/Zurich
X-LIC-LOCATION:Europe/Zurich
BEGIN:DAYLIGHT
DTSTART:20260329T030000
TZOFFSETFROM:+0100
TZOFFSETTO:+0200
TZNAME:CEST
END:DAYLIGHT
END:VTIMEZONE
END:VCALENDAR