BEGIN:VCALENDAR
VERSION:2.0
PRODID:-//wp-events-plugin.com//7.2.3.1//EN
TZID:Europe/Zurich
X-WR-TIMEZONE:Europe/Zurich
BEGIN:VEVENT
UID:358@sac-saas.ch
DTSTART;TZID=Europe/Zurich;VALUE=DATE:20250810
DTEND;TZID=Europe/Zurich;VALUE=DATE:20250811
DTSTAMP:20250808T152544Z
URL:https://sac-saas.ch/events/hochtour-strahlhorn-suedgrat-4190m-anmeldun
 g-ab-01-07-2025/
SUMMARY:Alternative für Hochtour Strahlhorn Südgrat 4190m - neu Grünberg
 horn / kurzentschlossene willkommen
DESCRIPTION:Auf Grund meiner Erkältung muss ich die geplante Tour auf das 
 Strahlhorn über den Südgrat absagen. Ich biete eine Alternative an. Am S
 onntag 10.08.2025 gehe ich auf das Grünberghorn mit anschliessender Queru
 ng das Grates. Die Tour ist leicht. Wer will\, kann sich noch anschliessen
 .\n\n\n\n\n\n\n\nSchwierigkeit\nLeicht\, Bergwanderung im T5 Bereich.\n\n\
 nEckdaten\nSo. Aufstieg vom Staudamm Mattmark zum Grünberghorn\, ca. 800 
 Hm. Weiter über den Grat ins Gletschergebiet des Schwarzberggletschers. A
 bstieg zu den "Zen Seewjinen"\n\n\nAusrüstung\nGute Bergschuhe\, Verpfleg
 ung für den Tag und dem Wetter angepasste Kleidung\n\n\nTreffpunkt\n08.00
  Uhr Staudamm Mattmark\, oder 07.45 Postplatz Saas-Grund (bei der Anmeldun
 g vermerken)\n\n\nTeilnehmerzahl\n10\n\n\n\n&nbsp\;
CATEGORIES:SAC Tour
END:VEVENT
BEGIN:VTIMEZONE
TZID:Europe/Zurich
X-LIC-LOCATION:Europe/Zurich
BEGIN:DAYLIGHT
DTSTART:20250330T030000
TZOFFSETFROM:+0100
TZOFFSETTO:+0200
TZNAME:CEST
END:DAYLIGHT
END:VTIMEZONE
END:VCALENDAR