BEGIN:VCALENDAR
VERSION:2.0
PRODID:-//wp-events-plugin.com//7.2.3.1//EN
TZID:Europe/Zurich
X-WR-TIMEZONE:Europe/Zurich
BEGIN:VEVENT
UID:481@sac-saas.ch
DTSTART;TZID=Europe/Zurich;VALUE=DATE:20260802
DTEND;TZID=Europe/Zurich;VALUE=DATE:20260804
DTSTAMP:20260420T201713Z
URL:https://sac-saas.ch/events/hochtour-strahlhorn-suedgrat-4190m-anmeldun
 g-ab-01-06-2026/
SUMMARY:Hochtour Strahlhorn Südgrat 4190m / Anmeldung ab 01.06.2026
DESCRIPTION:&nbsp\;\n\n\n\nAnmeldung ab:\n01.06.2026\n\n\nSchwierigkeit\nZS
 \, 3a\n\n\nEckdaten\nSo. Start vom Staudamm Mattmark und über den Schwarz
 berggletscher zum Biwak Citta di Luino 3598m - ↑ 1400 Hm\nMo. über den 
 Südgrat zum Strahlhorn und über den Allalingletscher und Schwarzbergkopf
  zurück zum Staudamm - ↑ 700 / ↓ 2000 Hm\n\n\nAusrüstung\nHochtouren
 ausrüstung plus Verpflegung Biwak\n\n\nTreffpunkt\nStaudamm Mattmark\, Ze
 it - wird noch bekannt gegeben\n\n\nTeilnehmerzahl\n6 inkl. 3 Tourenleiter
 \n\n\n\n&nbsp\;
CATEGORIES:Hochtour,SAC Tour
END:VEVENT
BEGIN:VTIMEZONE
TZID:Europe/Zurich
X-LIC-LOCATION:Europe/Zurich
BEGIN:DAYLIGHT
DTSTART:20260329T030000
TZOFFSETFROM:+0100
TZOFFSETTO:+0200
TZNAME:CEST
END:DAYLIGHT
END:VTIMEZONE
END:VCALENDAR