BEGIN:VCALENDAR
VERSION:2.0
PRODID:-//wp-events-plugin.com//7.2.3.1//EN
TZID:Europe/Zurich
X-WR-TIMEZONE:Europe/Zurich
BEGIN:VEVENT
UID:261@sac-saas.ch
DTSTART;TZID=Europe/Zurich;VALUE=DATE:20240713
DTEND;TZID=Europe/Zurich;VALUE=DATE:20240715
DTSTAMP:20240207T205732Z
URL:https://sac-saas.ch/events/hochtour-spaghetti-runde-anmeldung-ab-01-06
 -2024/
SUMMARY:Hochtour Spaghetti-Runde / Anmeldung ab 01.06.2024
DESCRIPTION:Wir starten von Alagna (ca. 3 Stunden Fahrt\, ca. 4 Uhr Abfahrt
  Brig) mit der 1. Bahn rauf auf Punta Indren. Von dort gehts auf den 1. 40
 00er\, die Punta Giordani. Über einen Felsgrat erklimmen wir in leichter 
 Kletterei die Vincentpyramide. Danach Abstieg zur Hütte (Capanna Gnifetti
 )\n\n2. Tag: Siganlkuppe- dort 2. Frühstück auf der Margarita-Hütte\, Z
 umsteinspitze\, Parrotspitze\, Ludwigshöhe\, Corno Nero und Balmhorn\, Ab
 stieg und Rückfahrt\n\n(Zusatzkosten: Fahrtkosten anteilig\, Übernachtun
 g/Halbpension\, Bahnfahrt)\n\n\n\nAnmeldung möglich ab:\n01.06.2024\n\n\n
 Schwierigkeit\nWS +\n\n\nEckdaten\n\n\n\nAusrüstung\nKomplette Hochtouren
 ausrüstung\n\n\nTreffpunkt\n\n\n\nTeilnehmerzahl\n9 incl. TL Jan\, SF Sim
 one\, SF Samuel\n\n\n\n&nbsp\;
CATEGORIES:Hochtour,SAC Tour
END:VEVENT
BEGIN:VTIMEZONE
TZID:Europe/Zurich
X-LIC-LOCATION:Europe/Zurich
BEGIN:DAYLIGHT
DTSTART:20240331T030000
TZOFFSETFROM:+0100
TZOFFSETTO:+0200
TZNAME:CEST
END:DAYLIGHT
END:VTIMEZONE
END:VCALENDAR