BEGIN:VCALENDAR
VERSION:2.0
PRODID:-//wp-events-plugin.com//7.2.3.1//EN
TZID:Europe/Zurich
X-WR-TIMEZONE:Europe/Zurich
BEGIN:VEVENT
UID:455@sac-saas.ch
DTSTART;TZID=Europe/Zurich;VALUE=DATE:20250823
DTEND;TZID=Europe/Zurich;VALUE=DATE:20250824
DTSTAMP:20250714T131158Z
URL:https://sac-saas.ch/events/hochtour-punta-giordani-vincent-piramid-anm
 eldung-ab-01-07-2025/
SUMMARY:ABGESAGT Hochtour Punta Giordani/Vincent Piramid Anmeldung ab 01.07
 .2025
DESCRIPTION:Hallo zusammen\,\n\nmuss leider aus personlichen Gründen die T
 our absagen.\n\nGrüsse\n\nLuca
CATEGORIES:SAC Tour
END:VEVENT
BEGIN:VTIMEZONE
TZID:Europe/Zurich
X-LIC-LOCATION:Europe/Zurich
BEGIN:DAYLIGHT
DTSTART:20250330T030000
TZOFFSETFROM:+0100
TZOFFSETTO:+0200
TZNAME:CEST
END:DAYLIGHT
END:VTIMEZONE
END:VCALENDAR