BEGIN:VCALENDAR
VERSION:2.0
PRODID:-//wp-events-plugin.com//7.2.3.1//EN
TZID:Europe/Zurich
X-WR-TIMEZONE:Europe/Zurich
BEGIN:VEVENT
UID:256@sac-saas.ch
DTSTART;TZID=Europe/Zurich;VALUE=DATE:20240825
DTEND;TZID=Europe/Zurich;VALUE=DATE:20240826
DTSTAMP:20240802T152621Z
URL:https://sac-saas.ch/events/hochtour-ofenhorn/
SUMMARY:Hochtour Ofenhorn / Anmeldung ab 25.07.2024
DESCRIPTION:&nbsp\;\n\n\n\nAnmeldung möglich ab:\n25.07.2024\n\n\nSchwieri
 gkeit\nWS\n\n\nEckdaten\n ↑  ↓ 1700 Hm -&gt\; x h\n\n\nAusrüstung\n
 \n\n\nTreffpunkt\n\n\n\nTeilnehmerzahl\n6 inkl TL und SF\n\n\n\n&nbsp\;
CATEGORIES:Bergreisen,SAC Tour
END:VEVENT
BEGIN:VTIMEZONE
TZID:Europe/Zurich
X-LIC-LOCATION:Europe/Zurich
BEGIN:DAYLIGHT
DTSTART:20240331T030000
TZOFFSETFROM:+0100
TZOFFSETTO:+0200
TZNAME:CEST
END:DAYLIGHT
END:VTIMEZONE
END:VCALENDAR