BEGIN:VCALENDAR
VERSION:2.0
PRODID:-//wp-events-plugin.com//7.2.3.1//EN
TZID:Europe/Zurich
X-WR-TIMEZONE:Europe/Zurich
BEGIN:VEVENT
UID:454@sac-saas.ch
DTSTART;TZID=Europe/Zurich;VALUE=DATE:20250712
DTEND;TZID=Europe/Zurich;VALUE=DATE:20250713
DTSTAMP:20250609T054406Z
URL:https://sac-saas.ch/events/hochtour-nordend-anmeldung-ab-01-06-2025/
SUMMARY:Hochtour Nordend / Anmeldung ab 01.06.2025
DESCRIPTION:&nbsp\;\n\n\n\n\n\n\n\nSchwierigkeit\nWS aber braucht viel Kond
 ition und gute Akklimatisierung an die Höhe\n\n\nEckdaten\n1700\n\n\nAusr
 üstung\n\n\n\nTreffpunkt\n\n\n\nTeilnehmerzahl\n6 inkl TL und SF\n\n\n\n&
 nbsp\;
CATEGORIES:SAC Tour
END:VEVENT
BEGIN:VTIMEZONE
TZID:Europe/Zurich
X-LIC-LOCATION:Europe/Zurich
BEGIN:DAYLIGHT
DTSTART:20250330T030000
TZOFFSETFROM:+0100
TZOFFSETTO:+0200
TZNAME:CEST
END:DAYLIGHT
END:VTIMEZONE
END:VCALENDAR