BEGIN:VCALENDAR
VERSION:2.0
PRODID:-//wp-events-plugin.com//7.2.3.1//EN
TZID:Europe/Zurich
X-WR-TIMEZONE:Europe/Zurich
BEGIN:VEVENT
UID:446@sac-saas.ch
DTSTART;TZID=Europe/Zurich;VALUE=DATE:20250719
DTEND;TZID=Europe/Zurich;VALUE=DATE:20250721
DTSTAMP:20250709T200712Z
URL:https://sac-saas.ch/events/hochtour-klein-aletschhorn-anmeldung-ab-20-
 05-25/
SUMMARY:!! Tour ausgebucht !! Hochtour Klein Aletschhorn
DESCRIPTION:&nbsp\;\n\n!! Tour ausgebucht !!\n\n&nbsp\;\nInformationen zur 
 Tour:\nSamstag: - Individuelle Anreise nach Blatten bei Naters\n\n- Fahrt 
 mit der 06:55 Seilbahn auf die Belalp hoch\n\n- Zustieg zur Oberaletschhü
 tte\, 5h Aufstieg 1000hm\, 10km\n\n- Ausbildungssequenz\, je nach Zeit: Ku
 rze Anwender-Tour um die Hütte\n\n- Übernachtung auf der Oberaletschhüt
 te\n\n&nbsp\;\n\nSonntag: - Abstieg von der Oberaletschhütte\, Oberaletsc
 hgletscher\, Gipfel Klein Aletschhorn\, Aufstieg 1500hm\n\n- Abstieg und e
 rneuerter Aufstieg zurück zur Oberaletschhütte\, Abstieg 1500hm und 400h
 m Aufstieg\n\n- Gemeinsames Mittagessen auf der Oberaletschhütte\n\n- Abs
 tieg zurück ins Oberaletschji und Heimreise\, Abstieg 1000hm\n\n&nbsp\;\n
 \n\n\nDas kleine Aletschhorn in der Bildmitte mit seinen 3750 Meter öffne
 t am Gipfel eine unvergessliche Rundumsicht. Es gewährt Einblicke auf den
  Konkordiaplatz und den Berner Alpen.\n\n&nbsp\;\n\nSchlechtwetter: Ich we
 rde mich bemühen ein Schlechtwetterprogramm für euch parat zu haben. Das
  Programm kann allfällige Abweichungen bezüglich Ort und Unternehmung ha
 ben. Ich zähle auf eure Flexibilität.\n\nTeilnehmerbedingungen: Grundken
 ntnisse von Vorteil / Kurse besucht von Vorteil / Kondition und Fitness so
 llten ausgelegt sein für einen Abstieg von 2500hm innert 10 Stunden / Bra
 ucht nicht zwingend grosse Hochtourenerfahrung / Gletscher Selbst- und Kam
 eradenrettung müssen routiniert anwendbar sein\n\nNach abgeschlossenem An
 meldeprozedere:  Es wird eine Whatsapp-Chatgruppe geben mit weiteren konk
 reten Informationen zur Tour.\n\n&nbsp\;\n\nFreue mich über eure Anmeldun
 g!\n\nChum doch öi ins Oberaletschji!\n\n\nAlessandro\n\n\n\n\n\n\n\nSchw
 ierigkeit\nWS+\n\n\nEckdaten\nSa: 1000hm   So: 2000hm\n\n\nAusrüstung\n1
 /2 Tax/GA für Seilbahn\, Hüttenschlafsack\, Hochtourenausrüstung Sommer
 \, Gletschermaterial\, Stirnlampe\n\n\nTreffpunkt\n06:45 Seilbahnstation B
 latten bei Naters\n\n\nTeilnehmerzahl\n2TN\, 1 TL (Alessandro)\n\n\n\n&nbs
 p\;
CATEGORIES:Bergtour,SAC Tour
END:VEVENT
BEGIN:VTIMEZONE
TZID:Europe/Zurich
X-LIC-LOCATION:Europe/Zurich
BEGIN:DAYLIGHT
DTSTART:20250330T030000
TZOFFSETFROM:+0100
TZOFFSETTO:+0200
TZNAME:CEST
END:DAYLIGHT
END:VTIMEZONE
END:VCALENDAR