BEGIN:VCALENDAR
VERSION:2.0
PRODID:-//wp-events-plugin.com//7.2.3.1//EN
TZID:Europe/Zurich
X-WR-TIMEZONE:Europe/Zurich
BEGIN:VEVENT
UID:471@sac-saas.ch
DTSTART;TZID=Europe/Zurich;VALUE=DATE:20250706
DTEND;TZID=Europe/Zurich;VALUE=DATE:20250707
DTSTAMP:20250620T070712Z
URL:https://sac-saas.ch/events/hochtour-hohlaubgrat-allalin-anmeldung-ab-1
 6-06-2025/
SUMMARY:Hochtour Hohlaubgrat Allalin / Anmeldung ab 16.06.2025
DESCRIPTION:&nbsp\;\n\n\n\nAnmeldung ab:\n06.Jun.2025\n\n\nSchwierigkeit\nZ
 S\, 2a\n\n\nEckdaten\n1000HM hoch\, 550HM runter\n\n\nAusrüstung\nHochtou
 renausrüstung komplett\n\n\nTreffpunkt\nwird noch bekannt gegeben\n\n\nTe
 ilnehmerzahl\n4Teilnehmer\, 1TL (Francine)\, 1SF (Luca)\n\n\n\nMit der Met
 ro zur Zwischenstation\, dann über den Hohlaubgletscher hoch bis zum Grat
 \, am Ende klettert man einen Felsriegel hoch\, anschließend sind es nur 
 noch ein paar Meter bis zum Gipfel\n\nAbstieg zum Mittelallalin
CATEGORIES:SAC Tour
END:VEVENT
BEGIN:VTIMEZONE
TZID:Europe/Zurich
X-LIC-LOCATION:Europe/Zurich
BEGIN:DAYLIGHT
DTSTART:20250330T030000
TZOFFSETFROM:+0100
TZOFFSETTO:+0200
TZNAME:CEST
END:DAYLIGHT
END:VTIMEZONE
END:VCALENDAR