BEGIN:VCALENDAR
VERSION:2.0
PRODID:-//wp-events-plugin.com//7.2.3.1//EN
TZID:Europe/Zurich
X-WR-TIMEZONE:Europe/Zurich
BEGIN:VEVENT
UID:148@sac-saas.ch
DTSTART;TZID=Europe/Zurich;VALUE=DATE:20230702
DTEND;TZID=Europe/Zurich;VALUE=DATE:20230704
DTSTAMP:20230701T083738Z
URL:https://sac-saas.ch/events/hochtour-haengendgletscherhorn-anmeldung-ab
 -02-06-2023/
SUMMARY:Hochtour Hängendgletscherhorn  / Anmeldung ab 02.06.2023
DESCRIPTION:&nbsp\;\n\n\n\nAnmeldung möglich ab:\n02.06.2023\, 07:00\n\n\n
 Schwierigkeit\nWs+/II ( E2)\n\n\nEckdaten\n ↑ 1100 H ca.5h  ↓ 2400 H
 m -&gt\; 3-5 h\n\n\nAusrüstung\nSteigeisen\, Pickel\,Klettergurt\, Helm\,
  Stirnlampe\, Karabiner\, Abseilgerät\, Brusikschlinge\, 3 Express\,Barge
 ld für Hüttenzahlung (Kreditkarte nicht möglich)\, warme Kleidung\, Han
 dschuhe\, Seidenschlafsack\n\nTourenleiter:  30m Seil\, eine Eisschraube 
 und diverses Hochtourenmaterial\n\n\nTreffpunkt\nSamuel:(079 799 95 56) f
 ährt ab Wallis\, bitte direkt mit ihm Kontakt aufnehmen ca. 06.30 Uhr Abf
 ahrt\n\nUrs: (079 489 52 63) fährt ab Thun\, wer Mitfahrgelegenheit brauc
 ht\, bitte melden\n\n\nTeilnehmerzahl\n6 inkl. TL und 2 Seilführer\n\n\n\
 nErster Tag: Aufstieg Urbachtal-Gaulihütte ca.5h T2 1300 Hm\n\nZweiter Ta
 g.Hangendgletscherhorn 3291 m - Chammligrat\, Abstieg zur Gaulihütte. Es 
 ist ein 2 Kilometer lange Grattour mit imposanter Kletterei mit einer gute
 n Mischung zwischen Sichern und Gehen am kurzen Seil.Abstieg ins Urbachtal
CATEGORIES:SAC Tour
END:VEVENT
BEGIN:VTIMEZONE
TZID:Europe/Zurich
X-LIC-LOCATION:Europe/Zurich
BEGIN:DAYLIGHT
DTSTART:20230326T030000
TZOFFSETFROM:+0100
TZOFFSETTO:+0200
TZNAME:CEST
END:DAYLIGHT
END:VTIMEZONE
END:VCALENDAR