BEGIN:VCALENDAR
VERSION:2.0
PRODID:-//wp-events-plugin.com//7.2.3.1//EN
TZID:Europe/Zurich
X-WR-TIMEZONE:Europe/Zurich
BEGIN:VEVENT
UID:255@sac-saas.ch
DTSTART;TZID=Europe/Zurich;VALUE=DATE:20240713
DTEND;TZID=Europe/Zurich;VALUE=DATE:20240715
DTSTAMP:20240207T205523Z
URL:https://sac-saas.ch/events/hochtour-fletschhorn/
SUMMARY:Hochtour Fletschhorn / Anmeldung ab 01.06.2024
DESCRIPTION:&nbsp\;\n\n\n\nAnmeldung möglich ab:\n01.06.2024\n\n\nSchwieri
 gkeit\nZS\n\n\nEckdaten\n ↑ ↓ 1300 Hm\n\n\nAusrüstung\n\n\n\nTreffpu
 nkt\n\n\n\nTeilnehmerzahl\n6 inkl. SF und TL\n\n\n\n&nbsp\;
CATEGORIES:Hochtour,SAC Tour
END:VEVENT
BEGIN:VTIMEZONE
TZID:Europe/Zurich
X-LIC-LOCATION:Europe/Zurich
BEGIN:DAYLIGHT
DTSTART:20240331T030000
TZOFFSETFROM:+0100
TZOFFSETTO:+0200
TZNAME:CEST
END:DAYLIGHT
END:VTIMEZONE
END:VCALENDAR