BEGIN:VCALENDAR
VERSION:2.0
PRODID:-//wp-events-plugin.com//7.2.3.1//EN
TZID:Europe/Zurich
X-WR-TIMEZONE:Europe/Zurich
BEGIN:VEVENT
UID:448@sac-saas.ch
DTSTART;TZID=Europe/Zurich;VALUE=DATE:20250628
DTEND;TZID=Europe/Zurich;VALUE=DATE:20250629
DTSTAMP:20250622T131143Z
URL:https://sac-saas.ch/events/hochtour-chli-und-gross-leckihorn-ueberschr
 eitung-anmeldung-ab-28-05-2025/
SUMMARY:Hochtour Überschreitung Leckihörner / Anmeldung ab 28.05.2025
DESCRIPTION:Wir fahren mit dem Auto bis Oberstafel (2221m) und laufen von d
 ort los. Wir passieren die Rotondohütte und halten uns Richtung Witenwass
 erpass (ca. 2 Std.). In abwechslungsreicher Kletterei gehts dann zunächst
  über das Chli Leckihorn 3023m  (ca. 2 Std)\, weiter über ein Firnfeld 
 zum Gross Leckihorn 3068m\, welches wir ebenfalls überschreiten (ca. 2 St
 d.). Der Abstieg dauert noch mal ca. 2 Std.\, je nach Schneelage :-) und m
 öglichen Kaffestop auf der Hütte (falls schon offen).\n\n\n\n\n\n\n\nSch
 wierigkeit\nWS+\, 3c\n\n\nEckdaten\nAuf-/Abstieg ca. 900 hm\, insgesamt ca
 . 8 Std.\n\n\nAusrüstung\nkomplette Hochtourenausrüstung\n\n\nTreffpunkt
 \nOberwald\, 1. Autoverlad\n\n\nTeilnehmerzahl\n6 incl. TL und SF\n\n\n\n&
 nbsp\;
CATEGORIES:SAC Tour
END:VEVENT
BEGIN:VTIMEZONE
TZID:Europe/Zurich
X-LIC-LOCATION:Europe/Zurich
BEGIN:DAYLIGHT
DTSTART:20250330T030000
TZOFFSETFROM:+0100
TZOFFSETTO:+0200
TZNAME:CEST
END:DAYLIGHT
END:VTIMEZONE
END:VCALENDAR