BEGIN:VCALENDAR
VERSION:2.0
PRODID:-//wp-events-plugin.com//7.2.3.1//EN
TZID:Europe/Zurich
X-WR-TIMEZONE:Europe/Zurich
BEGIN:VEVENT
UID:145@sac-saas.ch
DTSTART;TZID=Europe/Zurich;VALUE=DATE:20230624
DTEND;TZID=Europe/Zurich;VALUE=DATE:20230626
DTSTAMP:20230524T195709Z
URL:https://sac-saas.ch/events/hochtour-bluemlisalptraversierung-anmeldung
 -ab-24-05-2023/
SUMMARY:Hochtour Blümlisalptraversierung / Anmeldung ab 24.05.2023
DESCRIPTION:&nbsp\;\n\n\n\nAnmeldung möglich ab:\n24.05.2023\, 07:00\n\n\n
 Schwierigkeit\nZs+/45 Grad\n\n\nEckdaten\n ↑ 1000 Hm 6-8h↓  Hm -&gt\
 ; 2160Hm 6-8h\n\n\nAusrüstung\nHochtourenausrüstung\,Eisschrauben\,Steig
 eisen\,Pickel\n\n\nTreffpunkt\n\n\n\nTeilnehmerzahl\nTL 2 SF und 3 Persone
 n\n\n\n\nErster Tag: Aufstieg Oeschinensee T2 bis Blümlisalphütte ca. 4h
  T2 1300Hm\n\nZweiter Tag:Ueberschreitung Morgenhorn 3632m Wyssi Frau 365
 0 m - Blümlisalphorn 3661 m Grosser Gratklassiker des Berneroberland. Die
  Tour ist sehr stark von den Verhältnissen abhängig. In ausgeapertem Zus
 tand verlangen Blankeisstellen die entsprechende Absicherung mit Eisschrau
 ben\, zudem treten einige heikle Kletterstellen zu.
CATEGORIES:SAC Tour
END:VEVENT
BEGIN:VTIMEZONE
TZID:Europe/Zurich
X-LIC-LOCATION:Europe/Zurich
BEGIN:DAYLIGHT
DTSTART:20230326T030000
TZOFFSETFROM:+0100
TZOFFSETTO:+0200
TZNAME:CEST
END:DAYLIGHT
END:VTIMEZONE
END:VCALENDAR