BEGIN:VCALENDAR
VERSION:2.0
PRODID:-//wp-events-plugin.com//7.2.3.1//EN
TZID:Europe/Zurich
X-WR-TIMEZONE:Europe/Zurich
BEGIN:VEVENT
UID:327@sac-saas.ch
DTSTART;TZID=Europe/Zurich;VALUE=DATE:20250726
DTEND;TZID=Europe/Zurich;VALUE=DATE:20250728
DTSTAMP:20250725T161407Z
URL:https://sac-saas.ch/events/hochtour-berner-oberland-7-0-anmeldung-ab-1
 5-06-20205/
SUMMARY:Aiguille d'Argentière / ABGESAGT WEGEM WETTER :-(
DESCRIPTION:Für mich ein neuer Tour. Zudem hab ich sie auch noch nicht im 
 Sommerprogramm gesehen. Muss doch wunderschön sein in der französische A
 lpen. Willst du das auch entdecken\, wunderschöne Fotos machen und mitein
 ander was erleben. Dann melde dich an für ein Wochenendetour. Mit 2 Toure
 nleiter können wir 4 Teilnehmer mitnehmen.\n\nTag 1  Samstag 26.07.2025:
  Entspanntes hochsteigen zur Refuge d'Argentière (2771 Meter)\n\nTag 2 So
 nntag 27.07.2025:Aufstieg über den WSW-Flanke. Mit knapp 1200 Höhenmeter
  gut als Tagestour machbar. Ein langer Abstieg in spectaculaire Umgebung s
 orgt für ein wunderschöner Abschluss\n\nBei der Anmeldung unbedingt ange
 ben ob mit Auto möglich oder nicht. Eventuell gehen wir mit der Bahn.\n\n
 \n\nAnmeldung ab:\n15.06.2025\n\n\nSchwierigkeit\nWS+\n\n\nEckdaten\n1200 
 Hm hoch\, 2000 herunter\n\n\nAusrüstung\nHochtourenausrüstung\n\n\nTreff
 punkt\nNZB\n\n\nTeilnehmerzahl\n6 inkl. 2 TL\n\n\n\n&nbsp\;
CATEGORIES:SAC Tour
END:VEVENT
BEGIN:VTIMEZONE
TZID:Europe/Zurich
X-LIC-LOCATION:Europe/Zurich
BEGIN:DAYLIGHT
DTSTART:20250330T030000
TZOFFSETFROM:+0100
TZOFFSETTO:+0200
TZNAME:CEST
END:DAYLIGHT
END:VTIMEZONE
END:VCALENDAR