BEGIN:VCALENDAR
VERSION:2.0
PRODID:-//wp-events-plugin.com//7.2.3.1//EN
TZID:Europe/Zurich
X-WR-TIMEZONE:Europe/Zurich
BEGIN:VEVENT
UID:149@sac-saas.ch
DTSTART;TZID=Europe/Zurich;VALUE=DATE:20230709
DTEND;TZID=Europe/Zurich;VALUE=DATE:20230714
DTSTAMP:20230514T074335Z
URL:https://sac-saas.ch/events/hochtour-berner-oberland-6-0-anmeldung-ab-0
 8-05-2023/
SUMMARY:Änderung-Hochtour Berner Oberland 6.0 / Anmeldung ab 08.05.2023
DESCRIPTION:Die Tour findet vom 09.-13.07. statt (1 Tag verschoben)\n\nBere
 its zum 6. Mal geht es ab dem 9. Juli ins Berner Oberland. Hier folgt eine
  kleine Übersicht was euch bei einer Anmeldung erwartet:\n\nTag 1\n\nAufs
 tieg per Bahn ins Jungfraujoch. Überschreitung der Mönch (4099 Meter) ü
 ber die SW Grat und Ostgrat\, ZS+. Übernachtung in der Mönchsjochhütte 
 auf 3650 Meter.\n\nTag 2\n\nAbstieg auf dem Aletschgletscher bis ca. 3250 
 Meter. Anschliessend Aufstieg auf das Jungfrau (4159 Meter) über den Süd
 ostgrat\, ZS-. Erneute Übernachtung in der Mönchsjochhütte\, 3650 Meter
 .\n\nTag 3\n\nAbstieg über das Ewigschneefäld und anschliessend Aufstieg
  auf die Fiescherhörner (4049 und 4025 Meter) über den Walchergrat (NW-G
 rat). Anschliessend über das Fiescherfirn Abstieg zur Finsteraarhornhütt
 e auf 3048 Meter. Apero auf die schöne Terrasse von Vrenis Hütte.\n\nTag
  4\n\nAufstieg auf das majestetisches Finsteraarhorn auf 4274 Meter.\n\nTa
 g 5\n\nNatur pur! Abstieg über den zerklüfteten Fieschergletscher. Das w
 ird ein strenger aber fantastischen Tag!\n\n\n\nAnmeldung möglich ab:\n08
 .05.2023\, 07:00\n\n\nSchwierigkeit\nBis ZS+\n\n\nEckdaten\n ↑ 3500 Hm
   ↓ 5000 Hm -&gt\; bis zu 8h\n\n\nAusrüstung\nHochtourenausrüstung\n\
 n\nTreffpunkt\nNoch zu bestimmen\n\n\nTeilnehmerzahl\n4\n\n\n\n&nbsp\;
CATEGORIES:SAC Tour
END:VEVENT
BEGIN:VTIMEZONE
TZID:Europe/Zurich
X-LIC-LOCATION:Europe/Zurich
BEGIN:DAYLIGHT
DTSTART:20230326T030000
TZOFFSETFROM:+0100
TZOFFSETTO:+0200
TZNAME:CEST
END:DAYLIGHT
END:VTIMEZONE
END:VCALENDAR