BEGIN:VCALENDAR
VERSION:2.0
PRODID:-//wp-events-plugin.com//7.2.3.1//EN
TZID:Europe/Zurich
X-WR-TIMEZONE:Europe/Zurich
BEGIN:VEVENT
UID:541@sac-saas.ch
DTSTART;TZID=Europe/Zurich;VALUE=DATE:20260705
DTEND;TZID=Europe/Zurich;VALUE=DATE:20260706
DTSTAMP:20260325T195015Z
URL:https://sac-saas.ch/events/hochtour-allalin-hohlaubgrat-anmeldung-ab-0
 5-06-2026/
SUMMARY:Hochtour Allalin Hohlaubgrat / Anmeldung ab 05.06.2026
DESCRIPTION:&nbsp\;\n\n\n\nAnmeldung ab:\n\n\n\nSchwierigkeit\nWS+\n\n\nEck
 daten\n650 hm rauf\, 500 hm runter\n\n\nAusrüstung\n\n\n\nTreffpunkt\n\n\
 n\nTeilnehmerzahl\n4 incl. TL und SF\, falls zusätzlicher SF: plus 1 TN\n
 \n\n\nMit der 1. Metro-Bahn gehts rauf bis zum Stollenausstieg und dann ü
 ber den Hohlaubgrat aufs Allalin. Über den Normalweg zurück zum Mittelal
 lalin.
CATEGORIES:Hochtour,SAC Tour
END:VEVENT
BEGIN:VTIMEZONE
TZID:Europe/Zurich
X-LIC-LOCATION:Europe/Zurich
BEGIN:DAYLIGHT
DTSTART:20260329T030000
TZOFFSETFROM:+0100
TZOFFSETTO:+0200
TZNAME:CEST
END:DAYLIGHT
END:VTIMEZONE
END:VCALENDAR