BEGIN:VCALENDAR
VERSION:2.0
PRODID:-//wp-events-plugin.com//7.2.3.1//EN
TZID:Europe/Zurich
X-WR-TIMEZONE:Europe/Zurich
BEGIN:VEVENT
UID:200@sac-saas.ch
DTSTART;TZID=Europe/Zurich;VALUE=DATE:20241016
DTEND;TZID=Europe/Zurich;VALUE=DATE:20241017
DTSTAMP:20241014T171048Z
URL:https://sac-saas.ch/events/herbstwanderung-gletschertor-graechen/
SUMMARY:Herbstwanderung Gletschertor Grächen 16.10.2024 / Abgesagt
DESCRIPTION:Schöne Herbstwanderung entlang die Suonen von Grächen bis Gle
 tschertor.\n\n\n\nAnmeldung möglich ab:\n16.09.2024\n\n\nSchwierigkeit\nT
 3\n\n\nEckdaten\n↑ 500 ↓ 500       10km\n\n\nAusrüstung\nWanderaus
 rüstung und Verpflegung\n\n\nTreffpunkt\nGrächen\n\n\nTeilnehmerzahl\n8\
 n\n\n\n&nbsp\;
CATEGORIES:SAC Tour,Wanderung
END:VEVENT
BEGIN:VTIMEZONE
TZID:Europe/Zurich
X-LIC-LOCATION:Europe/Zurich
BEGIN:DAYLIGHT
DTSTART:20240331T030000
TZOFFSETFROM:+0100
TZOFFSETTO:+0200
TZNAME:CEST
END:DAYLIGHT
END:VTIMEZONE
END:VCALENDAR