BEGIN:VCALENDAR
VERSION:2.0
PRODID:-//wp-events-plugin.com//7.2.3.1//EN
TZID:Europe/Zurich
X-WR-TIMEZONE:Europe/Zurich
BEGIN:VEVENT
UID:34@sac-saas.ch
DTSTART;TZID=Europe/Zurich;VALUE=DATE:20231011
DTEND;TZID=Europe/Zurich;VALUE=DATE:20231012
DTSTAMP:20230121T205335Z
URL:https://sac-saas.ch/events/herbstwanderung-3-seewjinu/
SUMMARY:Herbstwanderung 3 Seewjinu / Anmeldung ab 05.09.2023
DESCRIPTION:Herbstfarben im Mattmark gebiet. Versteckt an die rechten Seite
  von der Mattmarksee finden wir die wunderschöne Wanderung 3 Seewjinu.\n\
 n\n\nAnmeldung möglich ab:\n05.09.2023\, 07:00\n\n\nSchwierigkeit\nt4\n\n
 \nEckdaten\n ↑ 700 Hm  ↓ 700 Hm -&gt\; 5-6 h\n\n\nAusrüstung\nWande
 rausrüstung inkl. Verpflegung\n\n\nTreffpunkt\nMattmark\n\n\nTeilnehmerza
 hl\n6 inkl. TL\n\n\n\n&nbsp\;
CATEGORIES:SAC Tour,Wanderung
END:VEVENT
BEGIN:VTIMEZONE
TZID:Europe/Zurich
X-LIC-LOCATION:Europe/Zurich
BEGIN:DAYLIGHT
DTSTART:20230326T030000
TZOFFSETFROM:+0100
TZOFFSETTO:+0200
TZNAME:CEST
END:DAYLIGHT
END:VTIMEZONE
END:VCALENDAR